BEGIN:VCALENDAR
VERSION:2.0
PRODID:-//BC Schizophrenia Society - ECPv6.15.20//NONSGML v1.0//EN
CALSCALE:GREGORIAN
METHOD:PUBLISH
X-ORIGINAL-URL:https://www.bcss.org
X-WR-CALDESC:Events for BC Schizophrenia Society
REFRESH-INTERVAL;VALUE=DURATION:PT1H
X-Robots-Tag:noindex
X-PUBLISHED-TTL:PT1H
BEGIN:VTIMEZONE
TZID:America/Vancouver
BEGIN:DAYLIGHT
TZOFFSETFROM:-0800
TZOFFSETTO:-0700
TZNAME:PDT
DTSTART:20230312T100000
END:DAYLIGHT
BEGIN:STANDARD
TZOFFSETFROM:-0700
TZOFFSETTO:-0800
TZNAME:PST
DTSTART:20231105T090000
END:STANDARD
BEGIN:DAYLIGHT
TZOFFSETFROM:-0800
TZOFFSETTO:-0700
TZNAME:PDT
DTSTART:20240310T100000
END:DAYLIGHT
BEGIN:STANDARD
TZOFFSETFROM:-0700
TZOFFSETTO:-0800
TZNAME:PST
DTSTART:20241103T090000
END:STANDARD
BEGIN:DAYLIGHT
TZOFFSETFROM:-0800
TZOFFSETTO:-0700
TZNAME:PDT
DTSTART:20250309T100000
END:DAYLIGHT
BEGIN:STANDARD
TZOFFSETFROM:-0700
TZOFFSETTO:-0800
TZNAME:PST
DTSTART:20251102T090000
END:STANDARD
END:VTIMEZONE
BEGIN:VEVENT
DTSTART;TZID=America/Vancouver:20240403T160000
DTEND;TZID=America/Vancouver:20240403T170000
DTSTAMP:20260424T084856
CREATED:20240417T045148Z
LAST-MODIFIED:20240417T192337Z
UID:10007810-1712160000-1712163600@www.bcss.org
SUMMARY:BCSS Youth: Teens in Control Drop-In Group
DESCRIPTION:Teens in Control provides support\, education\, coping skills\, and a safe space to talk\, to youth with a family member who has a mental illness. Teens in Control is for participants between the ages of 13-18\, across BC. \nVisit BCSS Youth for more details. \nTo join the list for our virtual drop-in groups\, or for more information\, please contact: \nKayla Arnold\n(778) 839-1458\nfrasereast@bcssyouth.org \nMary Beth Hall\n(236) 335-0917\nmanager@bcssyouth.org
URL:https://www.bcss.org/event/teens-in-control-drop-in-group-2/2024-04-03/
CATEGORIES:Teens in Control
ORGANIZER;CN="Kayla Arnold":MAILTO:frasereast@bcss.org
END:VEVENT
BEGIN:VEVENT
DTSTART;TZID=America/Vancouver:20240416T173000
DTEND;TZID=America/Vancouver:20240416T193000
DTSTAMP:20260424T084856
CREATED:20240417T052820Z
LAST-MODIFIED:20240417T191239Z
UID:10009822-1713288600-1713295800@www.bcss.org
SUMMARY:BCSS Youth: Teens in Control in Penticton
DESCRIPTION:Teens in Control is a free education and support program for children ages 13 – 18  years old. This is offered to the youth who have a family member with mental illness (e.g. schizophrenia\, bipolar disorder\, depression\, etc.) or a substance use disorder. It offers a supportive space for adolescents to refine healthy coping strategies\, deepen their mental health awareness\, and connect with peers who share similar experiences.\n \nTeens in Control (In-Person) \n\nApril 16 and 23\, 2024 (Tuesdays)\nTime: 5:30 – 7:30 pm\nLocation: Mental Wellness Centre – #118 – 246 Martin Street\, Penticton\, BC\nFor more information or to join this\, please contact familysupport@sosmws.com or call 250-488-4895
URL:https://www.bcss.org/event/bcss-youth-teens-in-control-in-penticton/2024-04-16/
LOCATION:Mental Wellness Centre\, #118 - 246 Martin Street\, Penticton\, British Columbia\, Canada
CATEGORIES:Teens in Control
ORGANIZER;CN="BCSS Penticton Branch (Mental Wellness Centre)":MAILTO:info@sosmws.com
END:VEVENT
BEGIN:VEVENT
DTSTART;TZID=America/Vancouver:20240423T173000
DTEND;TZID=America/Vancouver:20240423T193000
DTSTAMP:20260424T084856
CREATED:20240417T052820Z
LAST-MODIFIED:20240417T191239Z
UID:10009823-1713893400-1713900600@www.bcss.org
SUMMARY:BCSS Youth: Teens in Control in Penticton
DESCRIPTION:Teens in Control is a free education and support program for children ages 13 – 18  years old. This is offered to the youth who have a family member with mental illness (e.g. schizophrenia\, bipolar disorder\, depression\, etc.) or a substance use disorder. It offers a supportive space for adolescents to refine healthy coping strategies\, deepen their mental health awareness\, and connect with peers who share similar experiences.\n \nTeens in Control (In-Person) \n\nApril 16 and 23\, 2024 (Tuesdays)\nTime: 5:30 – 7:30 pm\nLocation: Mental Wellness Centre – #118 – 246 Martin Street\, Penticton\, BC\nFor more information or to join this\, please contact familysupport@sosmws.com or call 250-488-4895
URL:https://www.bcss.org/event/bcss-youth-teens-in-control-in-penticton/2024-04-23/
LOCATION:Mental Wellness Centre\, #118 - 246 Martin Street\, Penticton\, British Columbia\, Canada
CATEGORIES:Teens in Control
ORGANIZER;CN="BCSS Penticton Branch (Mental Wellness Centre)":MAILTO:info@sosmws.com
END:VEVENT
BEGIN:VEVENT
DTSTART;TZID=America/Vancouver:20240425T160000
DTEND;TZID=America/Vancouver:20240425T173000
DTSTAMP:20260424T084856
CREATED:20240506T181322Z
LAST-MODIFIED:20240506T182153Z
UID:10011025-1714060800-1714066200@www.bcss.org
SUMMARY:BCSS Youth: Teens In Control (Online)
DESCRIPTION:Teens in Control is a free education and support program for children ages 13 – 18  . This is offered to the youth who have a family member with mental illness (e.g. schizophrenia\, bipolar disorder\, depression\, etc.) or a substance use disorder. It offers a supportive space for adolescents to refine healthy coping strategies\, deepen their mental health awareness\, and connect with peers who share similar experiences. Topics include self-care\, boundary setting\, communication skills and other resources.\n \nTeens in Control (Online) \n\nEvery Thursdays\, for eight (8) weeks\, starting April 25\, 2024\nTime: 4:00 – 5:30 pm\nFor more information\, please contact Amber Miner at frasernorth@bcssyouth.org\n\nNote: Each session will have a different theme\, and teens must attend five sessions to receive a certificate of completion. \nLearn more at our new BCSS Youth website!
URL:https://www.bcss.org/event/bcss-youth-teens-in-control-online/2024-04-25/
LOCATION:BCSS – Virtual\, British Columbia\, Canada
CATEGORIES:Teens in Control
ORGANIZER;CN="Amber Miner":MAILTO:frasernorth@bcssyouth.org
END:VEVENT
END:VCALENDAR