BEGIN:VCALENDAR
VERSION:2.0
PRODID:-//BC Schizophrenia Society - ECPv6.15.20//NONSGML v1.0//EN
CALSCALE:GREGORIAN
METHOD:PUBLISH
X-WR-CALNAME:BC Schizophrenia Society
X-ORIGINAL-URL:https://www.bcss.org
X-WR-CALDESC:Events for BC Schizophrenia Society
REFRESH-INTERVAL;VALUE=DURATION:PT1H
X-Robots-Tag:noindex
X-PUBLISHED-TTL:PT1H
BEGIN:VTIMEZONE
TZID:America/Vancouver
BEGIN:DAYLIGHT
TZOFFSETFROM:-0800
TZOFFSETTO:-0700
TZNAME:PDT
DTSTART:20230312T100000
END:DAYLIGHT
BEGIN:STANDARD
TZOFFSETFROM:-0700
TZOFFSETTO:-0800
TZNAME:PST
DTSTART:20231105T090000
END:STANDARD
BEGIN:DAYLIGHT
TZOFFSETFROM:-0800
TZOFFSETTO:-0700
TZNAME:PDT
DTSTART:20240310T100000
END:DAYLIGHT
BEGIN:STANDARD
TZOFFSETFROM:-0700
TZOFFSETTO:-0800
TZNAME:PST
DTSTART:20241103T090000
END:STANDARD
BEGIN:DAYLIGHT
TZOFFSETFROM:-0800
TZOFFSETTO:-0700
TZNAME:PDT
DTSTART:20250309T100000
END:DAYLIGHT
BEGIN:STANDARD
TZOFFSETFROM:-0700
TZOFFSETTO:-0800
TZNAME:PST
DTSTART:20251102T090000
END:STANDARD
END:VTIMEZONE
BEGIN:VEVENT
DTSTART;TZID=America/Vancouver:20240501T160000
DTEND;TZID=America/Vancouver:20240501T170000
DTSTAMP:20260424T071554
CREATED:20240417T045148Z
LAST-MODIFIED:20240417T192337Z
UID:10007811-1714579200-1714582800@www.bcss.org
SUMMARY:BCSS Youth: Teens in Control Drop-In Group
DESCRIPTION:Teens in Control provides support\, education\, coping skills\, and a safe space to talk\, to youth with a family member who has a mental illness. Teens in Control is for participants between the ages of 13-18\, across BC. \nVisit BCSS Youth for more details. \nTo join the list for our virtual drop-in groups\, or for more information\, please contact: \nKayla Arnold\n(778) 839-1458\nfrasereast@bcssyouth.org \nMary Beth Hall\n(236) 335-0917\nmanager@bcssyouth.org
URL:https://www.bcss.org/event/teens-in-control-drop-in-group-2/2024-05-01/
CATEGORIES:Teens in Control
ORGANIZER;CN="Kayla Arnold":MAILTO:frasereast@bcss.org
END:VEVENT
BEGIN:VEVENT
DTSTART;TZID=America/Vancouver:20240502T160000
DTEND;TZID=America/Vancouver:20240502T173000
DTSTAMP:20260424T071554
CREATED:20240506T181322Z
LAST-MODIFIED:20240506T182153Z
UID:10011026-1714665600-1714671000@www.bcss.org
SUMMARY:BCSS Youth: Teens In Control (Online)
DESCRIPTION:Teens in Control is a free education and support program for children ages 13 – 18  . This is offered to the youth who have a family member with mental illness (e.g. schizophrenia\, bipolar disorder\, depression\, etc.) or a substance use disorder. It offers a supportive space for adolescents to refine healthy coping strategies\, deepen their mental health awareness\, and connect with peers who share similar experiences. Topics include self-care\, boundary setting\, communication skills and other resources.\n \nTeens in Control (Online) \n\nEvery Thursdays\, for eight (8) weeks\, starting April 25\, 2024\nTime: 4:00 – 5:30 pm\nFor more information\, please contact Amber Miner at frasernorth@bcssyouth.org\n\nNote: Each session will have a different theme\, and teens must attend five sessions to receive a certificate of completion. \nLearn more at our new BCSS Youth website!
URL:https://www.bcss.org/event/bcss-youth-teens-in-control-online/2024-05-02/
LOCATION:BCSS – Virtual\, British Columbia\, Canada
CATEGORIES:Teens in Control
ORGANIZER;CN="Amber Miner":MAILTO:frasernorth@bcssyouth.org
END:VEVENT
BEGIN:VEVENT
DTSTART;TZID=America/Vancouver:20240509T160000
DTEND;TZID=America/Vancouver:20240509T173000
DTSTAMP:20260424T071554
CREATED:20240506T181322Z
LAST-MODIFIED:20240506T182153Z
UID:10011027-1715270400-1715275800@www.bcss.org
SUMMARY:BCSS Youth: Teens In Control (Online)
DESCRIPTION:Teens in Control is a free education and support program for children ages 13 – 18  . This is offered to the youth who have a family member with mental illness (e.g. schizophrenia\, bipolar disorder\, depression\, etc.) or a substance use disorder. It offers a supportive space for adolescents to refine healthy coping strategies\, deepen their mental health awareness\, and connect with peers who share similar experiences. Topics include self-care\, boundary setting\, communication skills and other resources.\n \nTeens in Control (Online) \n\nEvery Thursdays\, for eight (8) weeks\, starting April 25\, 2024\nTime: 4:00 – 5:30 pm\nFor more information\, please contact Amber Miner at frasernorth@bcssyouth.org\n\nNote: Each session will have a different theme\, and teens must attend five sessions to receive a certificate of completion. \nLearn more at our new BCSS Youth website!
URL:https://www.bcss.org/event/bcss-youth-teens-in-control-online/2024-05-09/
LOCATION:BCSS – Virtual\, British Columbia\, Canada
CATEGORIES:Teens in Control
ORGANIZER;CN="Amber Miner":MAILTO:frasernorth@bcssyouth.org
END:VEVENT
BEGIN:VEVENT
DTSTART;TZID=America/Vancouver:20240516T160000
DTEND;TZID=America/Vancouver:20240516T173000
DTSTAMP:20260424T071554
CREATED:20240506T181322Z
LAST-MODIFIED:20240506T182153Z
UID:10011028-1715875200-1715880600@www.bcss.org
SUMMARY:BCSS Youth: Teens In Control (Online)
DESCRIPTION:Teens in Control is a free education and support program for children ages 13 – 18  . This is offered to the youth who have a family member with mental illness (e.g. schizophrenia\, bipolar disorder\, depression\, etc.) or a substance use disorder. It offers a supportive space for adolescents to refine healthy coping strategies\, deepen their mental health awareness\, and connect with peers who share similar experiences. Topics include self-care\, boundary setting\, communication skills and other resources.\n \nTeens in Control (Online) \n\nEvery Thursdays\, for eight (8) weeks\, starting April 25\, 2024\nTime: 4:00 – 5:30 pm\nFor more information\, please contact Amber Miner at frasernorth@bcssyouth.org\n\nNote: Each session will have a different theme\, and teens must attend five sessions to receive a certificate of completion. \nLearn more at our new BCSS Youth website!
URL:https://www.bcss.org/event/bcss-youth-teens-in-control-online/2024-05-16/
LOCATION:BCSS – Virtual\, British Columbia\, Canada
CATEGORIES:Teens in Control
ORGANIZER;CN="Amber Miner":MAILTO:frasernorth@bcssyouth.org
END:VEVENT
BEGIN:VEVENT
DTSTART;TZID=America/Vancouver:20240523T160000
DTEND;TZID=America/Vancouver:20240523T173000
DTSTAMP:20260424T071554
CREATED:20240506T181322Z
LAST-MODIFIED:20240506T182153Z
UID:10011029-1716480000-1716485400@www.bcss.org
SUMMARY:BCSS Youth: Teens In Control (Online)
DESCRIPTION:Teens in Control is a free education and support program for children ages 13 – 18  . This is offered to the youth who have a family member with mental illness (e.g. schizophrenia\, bipolar disorder\, depression\, etc.) or a substance use disorder. It offers a supportive space for adolescents to refine healthy coping strategies\, deepen their mental health awareness\, and connect with peers who share similar experiences. Topics include self-care\, boundary setting\, communication skills and other resources.\n \nTeens in Control (Online) \n\nEvery Thursdays\, for eight (8) weeks\, starting April 25\, 2024\nTime: 4:00 – 5:30 pm\nFor more information\, please contact Amber Miner at frasernorth@bcssyouth.org\n\nNote: Each session will have a different theme\, and teens must attend five sessions to receive a certificate of completion. \nLearn more at our new BCSS Youth website!
URL:https://www.bcss.org/event/bcss-youth-teens-in-control-online/2024-05-23/
LOCATION:BCSS – Virtual\, British Columbia\, Canada
CATEGORIES:Teens in Control
ORGANIZER;CN="Amber Miner":MAILTO:frasernorth@bcssyouth.org
END:VEVENT
BEGIN:VEVENT
DTSTART;TZID=America/Vancouver:20240530T160000
DTEND;TZID=America/Vancouver:20240530T173000
DTSTAMP:20260424T071554
CREATED:20240506T181322Z
LAST-MODIFIED:20240506T182153Z
UID:10011030-1717084800-1717090200@www.bcss.org
SUMMARY:BCSS Youth: Teens In Control (Online)
DESCRIPTION:Teens in Control is a free education and support program for children ages 13 – 18  . This is offered to the youth who have a family member with mental illness (e.g. schizophrenia\, bipolar disorder\, depression\, etc.) or a substance use disorder. It offers a supportive space for adolescents to refine healthy coping strategies\, deepen their mental health awareness\, and connect with peers who share similar experiences. Topics include self-care\, boundary setting\, communication skills and other resources.\n \nTeens in Control (Online) \n\nEvery Thursdays\, for eight (8) weeks\, starting April 25\, 2024\nTime: 4:00 – 5:30 pm\nFor more information\, please contact Amber Miner at frasernorth@bcssyouth.org\n\nNote: Each session will have a different theme\, and teens must attend five sessions to receive a certificate of completion. \nLearn more at our new BCSS Youth website!
URL:https://www.bcss.org/event/bcss-youth-teens-in-control-online/2024-05-30/
LOCATION:BCSS – Virtual\, British Columbia\, Canada
CATEGORIES:Teens in Control
ORGANIZER;CN="Amber Miner":MAILTO:frasernorth@bcssyouth.org
END:VEVENT
END:VCALENDAR