BEGIN:VCALENDAR
VERSION:2.0
PRODID:-//BC Schizophrenia Society - ECPv6.15.20//NONSGML v1.0//EN
CALSCALE:GREGORIAN
METHOD:PUBLISH
X-WR-CALNAME:BC Schizophrenia Society
X-ORIGINAL-URL:https://www.bcss.org
X-WR-CALDESC:Events for BC Schizophrenia Society
REFRESH-INTERVAL;VALUE=DURATION:PT1H
X-Robots-Tag:noindex
X-PUBLISHED-TTL:PT1H
BEGIN:VTIMEZONE
TZID:America/Vancouver
BEGIN:DAYLIGHT
TZOFFSETFROM:-0800
TZOFFSETTO:-0700
TZNAME:PDT
DTSTART:20240310T100000
END:DAYLIGHT
BEGIN:STANDARD
TZOFFSETFROM:-0700
TZOFFSETTO:-0800
TZNAME:PST
DTSTART:20241103T090000
END:STANDARD
BEGIN:DAYLIGHT
TZOFFSETFROM:-0800
TZOFFSETTO:-0700
TZNAME:PDT
DTSTART:20250309T100000
END:DAYLIGHT
BEGIN:STANDARD
TZOFFSETFROM:-0700
TZOFFSETTO:-0800
TZNAME:PST
DTSTART:20251102T090000
END:STANDARD
BEGIN:DAYLIGHT
TZOFFSETFROM:-0800
TZOFFSETTO:-0700
TZNAME:PDT
DTSTART:20260308T100000
END:DAYLIGHT
BEGIN:STANDARD
TZOFFSETFROM:-0700
TZOFFSETTO:-0800
TZNAME:PST
DTSTART:20261101T090000
END:STANDARD
END:VTIMEZONE
BEGIN:VEVENT
DTSTART;TZID=America/Vancouver:20250101T160000
DTEND;TZID=America/Vancouver:20250101T173000
DTSTAMP:20260423T211227
CREATED:20241007T182415Z
LAST-MODIFIED:20250131T031058Z
UID:10011831-1735747200-1735752600@www.bcss.org
SUMMARY:Teens In Control Drop-In Session
DESCRIPTION:Teens In Control Drop-in sessions give youth an opportunity to stay connected with their peers and receive ongoing support. Past participants of our TIC workshops are invited to join our virtual drop-in group. Visit BCSS Youth for more details. \nTo join the list for our drop-in groups\, or for more information\, please contact: \nAmber Miner\n(604) 442-7082\nfrasernorth@bcssyouth.org \nMary Beth Hall\n(236) 335-0917\nmanager@bcssyouth.org
URL:https://www.bcss.org/event/bcss-youth-teens-in-control-drop-in-session/2025-01-01/
CATEGORIES:Teens in Control
ORGANIZER;CN="Mary Beth Hall":MAILTO:manager@bcssyouth.org
END:VEVENT
BEGIN:VEVENT
DTSTART;TZID=America/Vancouver:20250102T160000
DTEND;TZID=America/Vancouver:20250102T173000
DTSTAMP:20260423T211227
CREATED:20241202T191721Z
LAST-MODIFIED:20241202T191721Z
UID:10011913-1735833600-1735839000@www.bcss.org
SUMMARY:BCSS Youth: Teens In Control
DESCRIPTION:Teens In Control is for youth ages 13 – 18 years old who have a family member or friend with a mental illness or substance use disorder. Each session gives youth the opportunity to connect with peers who share similar experiences while learning about mental illness\, self-care techniques\, and skills for communicating with a loved one with mental illness. \nTeens In Control (Online) \n\nWeekly\, every Thursday\, from December 5\, 2024 – January 23\, 2025\nTime: 4:00 pm – 5:30 pm\nFor more information or to join this\, please contact Kayla Arnold at frasereast@bcssyouth.org
URL:https://www.bcss.org/event/bcss-youth-teens-in-control/2025-01-02/
LOCATION:BCSS Youth – Virtual
CATEGORIES:Teens in Control
ORGANIZER;CN="Kayla Arnold":MAILTO:frasereast@bcss.org
END:VEVENT
BEGIN:VEVENT
DTSTART;TZID=America/Vancouver:20250109T160000
DTEND;TZID=America/Vancouver:20250109T173000
DTSTAMP:20260423T211227
CREATED:20241202T191721Z
LAST-MODIFIED:20241202T191721Z
UID:10011914-1736438400-1736443800@www.bcss.org
SUMMARY:BCSS Youth: Teens In Control
DESCRIPTION:Teens In Control is for youth ages 13 – 18 years old who have a family member or friend with a mental illness or substance use disorder. Each session gives youth the opportunity to connect with peers who share similar experiences while learning about mental illness\, self-care techniques\, and skills for communicating with a loved one with mental illness. \nTeens In Control (Online) \n\nWeekly\, every Thursday\, from December 5\, 2024 – January 23\, 2025\nTime: 4:00 pm – 5:30 pm\nFor more information or to join this\, please contact Kayla Arnold at frasereast@bcssyouth.org
URL:https://www.bcss.org/event/bcss-youth-teens-in-control/2025-01-09/
LOCATION:BCSS Youth – Virtual
CATEGORIES:Teens in Control
ORGANIZER;CN="Kayla Arnold":MAILTO:frasereast@bcss.org
END:VEVENT
BEGIN:VEVENT
DTSTART;TZID=America/Vancouver:20250116T160000
DTEND;TZID=America/Vancouver:20250116T173000
DTSTAMP:20260423T211227
CREATED:20241202T191721Z
LAST-MODIFIED:20241202T191721Z
UID:10011915-1737043200-1737048600@www.bcss.org
SUMMARY:BCSS Youth: Teens In Control
DESCRIPTION:Teens In Control is for youth ages 13 – 18 years old who have a family member or friend with a mental illness or substance use disorder. Each session gives youth the opportunity to connect with peers who share similar experiences while learning about mental illness\, self-care techniques\, and skills for communicating with a loved one with mental illness. \nTeens In Control (Online) \n\nWeekly\, every Thursday\, from December 5\, 2024 – January 23\, 2025\nTime: 4:00 pm – 5:30 pm\nFor more information or to join this\, please contact Kayla Arnold at frasereast@bcssyouth.org
URL:https://www.bcss.org/event/bcss-youth-teens-in-control/2025-01-16/
LOCATION:BCSS Youth – Virtual
CATEGORIES:Teens in Control
ORGANIZER;CN="Kayla Arnold":MAILTO:frasereast@bcss.org
END:VEVENT
BEGIN:VEVENT
DTSTART;TZID=America/Vancouver:20250123T160000
DTEND;TZID=America/Vancouver:20250123T173000
DTSTAMP:20260423T211227
CREATED:20241202T191721Z
LAST-MODIFIED:20241202T191721Z
UID:10011916-1737648000-1737653400@www.bcss.org
SUMMARY:BCSS Youth: Teens In Control
DESCRIPTION:Teens In Control is for youth ages 13 – 18 years old who have a family member or friend with a mental illness or substance use disorder. Each session gives youth the opportunity to connect with peers who share similar experiences while learning about mental illness\, self-care techniques\, and skills for communicating with a loved one with mental illness. \nTeens In Control (Online) \n\nWeekly\, every Thursday\, from December 5\, 2024 – January 23\, 2025\nTime: 4:00 pm – 5:30 pm\nFor more information or to join this\, please contact Kayla Arnold at frasereast@bcssyouth.org
URL:https://www.bcss.org/event/bcss-youth-teens-in-control/2025-01-23/
LOCATION:BCSS Youth – Virtual
CATEGORIES:Teens in Control
ORGANIZER;CN="Kayla Arnold":MAILTO:frasereast@bcss.org
END:VEVENT
END:VCALENDAR