BEGIN:VCALENDAR
VERSION:2.0
PRODID:-//BC Schizophrenia Society - ECPv6.15.20//NONSGML v1.0//EN
CALSCALE:GREGORIAN
METHOD:PUBLISH
X-ORIGINAL-URL:https://www.bcss.org
X-WR-CALDESC:Events for BC Schizophrenia Society
REFRESH-INTERVAL;VALUE=DURATION:PT1H
X-Robots-Tag:noindex
X-PUBLISHED-TTL:PT1H
BEGIN:VTIMEZONE
TZID:America/Vancouver
BEGIN:DAYLIGHT
TZOFFSETFROM:-0800
TZOFFSETTO:-0700
TZNAME:PDT
DTSTART:20250309T100000
END:DAYLIGHT
BEGIN:STANDARD
TZOFFSETFROM:-0700
TZOFFSETTO:-0800
TZNAME:PST
DTSTART:20251102T090000
END:STANDARD
BEGIN:DAYLIGHT
TZOFFSETFROM:-0800
TZOFFSETTO:-0700
TZNAME:PDT
DTSTART:20260308T100000
END:DAYLIGHT
BEGIN:STANDARD
TZOFFSETFROM:-0700
TZOFFSETTO:-0800
TZNAME:PST
DTSTART:20261101T090000
END:STANDARD
BEGIN:DAYLIGHT
TZOFFSETFROM:-0800
TZOFFSETTO:-0700
TZNAME:PDT
DTSTART:20270314T100000
END:DAYLIGHT
BEGIN:STANDARD
TZOFFSETFROM:-0700
TZOFFSETTO:-0800
TZNAME:PST
DTSTART:20271107T090000
END:STANDARD
END:VTIMEZONE
BEGIN:VEVENT
DTSTART;VALUE=DATE:20260107
DTEND;VALUE=DATE:20260108
DTSTAMP:20260423T035523
CREATED:20251208T175657Z
LAST-MODIFIED:20251208T175708Z
UID:10013211-1767744000-1767830399@www.bcss.org
SUMMARY:Teens In Control x CMHA Vernon: PVSS (Armstrong) In-School Program
DESCRIPTION:Teens In Control is for youth ages 13 – 18 years old who have a family member or friend with a mental illness or substance use disorder. Each session allows youth to connect with peers who share similar experiences while learning about mental illness\, self-care techniques\, and skills for communicating with a loved one with mental illness. \nTeens In Control (In-Person | In-School Program) \n\nWednesdays on Jan 7\, 14\, and 21\, 2026\nLocation: Pleasant Valley Secondary School in Armstrong\, BC\nFor more information\, get in touch with Gurleen Jassi at youth@cmhavernon.ca
URL:https://www.bcss.org/event/teens-in-control-x-cmha-vernon-pvss-armstrong-in-school-program/2026-01-07/
LOCATION:Pleasant Valley Secondary School\, 2365 Pleasant Valley Rd\, Armstrong\, BC\, Canada
CATEGORIES:Teens in Control
ORGANIZER;CN="Gurleen Jassi - CMHA Youth Integrated Services Hub":MAILTO:youth@cmhavernon.ca
END:VEVENT
BEGIN:VEVENT
DTSTART;TZID=America/Vancouver:20260107T160000
DTEND;TZID=America/Vancouver:20260107T173000
DTSTAMP:20260423T035523
CREATED:20251208T191138Z
LAST-MODIFIED:20251208T191217Z
UID:10013216-1767801600-1767807000@www.bcss.org
SUMMARY:Teens In Control Drop-In Session
DESCRIPTION:Teens In Control Drop-in sessions give youth an opportunity to stay connected with their peers and receive ongoing support. Past participants of our TIC workshops are invited to join our virtual drop-in group. Visit BCSS Youth for more details. \nTo join the list for our drop-in groups\, or for more information\, please contact: \nAmber Miner\n(604) 442-7082\nfrasernorth@bcssyouth.org \nMary Beth Hall\n(236) 335-0917\nmanager@bcssyouth.org
URL:https://www.bcss.org/event/bcss-youth-teens-in-control-drop-in-session-2/2026-01-07/
CATEGORIES:Teens in Control
ORGANIZER;CN="Mary Beth Hall":MAILTO:manager@bcssyouth.org
END:VEVENT
BEGIN:VEVENT
DTSTART;VALUE=DATE:20260114
DTEND;VALUE=DATE:20260115
DTSTAMP:20260423T035523
CREATED:20251208T175657Z
LAST-MODIFIED:20251208T175708Z
UID:10013212-1768348800-1768435199@www.bcss.org
SUMMARY:Teens In Control x CMHA Vernon: PVSS (Armstrong) In-School Program
DESCRIPTION:Teens In Control is for youth ages 13 – 18 years old who have a family member or friend with a mental illness or substance use disorder. Each session allows youth to connect with peers who share similar experiences while learning about mental illness\, self-care techniques\, and skills for communicating with a loved one with mental illness. \nTeens In Control (In-Person | In-School Program) \n\nWednesdays on Jan 7\, 14\, and 21\, 2026\nLocation: Pleasant Valley Secondary School in Armstrong\, BC\nFor more information\, get in touch with Gurleen Jassi at youth@cmhavernon.ca
URL:https://www.bcss.org/event/teens-in-control-x-cmha-vernon-pvss-armstrong-in-school-program/2026-01-14/
LOCATION:Pleasant Valley Secondary School\, 2365 Pleasant Valley Rd\, Armstrong\, BC\, Canada
CATEGORIES:Teens in Control
ORGANIZER;CN="Gurleen Jassi - CMHA Youth Integrated Services Hub":MAILTO:youth@cmhavernon.ca
END:VEVENT
BEGIN:VEVENT
DTSTART;TZID=America/Vancouver:20260115T160000
DTEND;TZID=America/Vancouver:20260115T173000
DTSTAMP:20260423T035523
CREATED:20260106T181413Z
LAST-MODIFIED:20260106T181924Z
UID:10013357-1768492800-1768498200@www.bcss.org
SUMMARY:Teens In Control - Virtual
DESCRIPTION:The Teens in Control program is for youth ages 13-18 years old and consists of a two-day online workshop. Each session is 1.5 hours long and gives youth the opportunity to connect with peers who share similar experiences and interests. \nYouth have the chance to relax and play games while learning about mental illness\, self-care techniques\, and skills for communicating with a loved one with mental illness. \nTeens In Control – Virtual \n\nDate: Runs every Thursday for 8 weeks\, starting January 15\, 2026\nTime: 4:00 – 5:30 PM\nLocation: Virtual via Zoom\nFor more information\, please contact Kayla Arnold at frasereast@bcssyouth.org
URL:https://www.bcss.org/event/teens-in-control-virtual/2026-01-15/
LOCATION:BCSS Youth – Virtual
CATEGORIES:Teens in Control
ORGANIZER;CN="Kayla Arnold":MAILTO:frasereast@bcss.org
END:VEVENT
BEGIN:VEVENT
DTSTART;VALUE=DATE:20260121
DTEND;VALUE=DATE:20260122
DTSTAMP:20260423T035523
CREATED:20251208T175657Z
LAST-MODIFIED:20251208T175708Z
UID:10013213-1768953600-1769039999@www.bcss.org
SUMMARY:Teens In Control x CMHA Vernon: PVSS (Armstrong) In-School Program
DESCRIPTION:Teens In Control is for youth ages 13 – 18 years old who have a family member or friend with a mental illness or substance use disorder. Each session allows youth to connect with peers who share similar experiences while learning about mental illness\, self-care techniques\, and skills for communicating with a loved one with mental illness. \nTeens In Control (In-Person | In-School Program) \n\nWednesdays on Jan 7\, 14\, and 21\, 2026\nLocation: Pleasant Valley Secondary School in Armstrong\, BC\nFor more information\, get in touch with Gurleen Jassi at youth@cmhavernon.ca
URL:https://www.bcss.org/event/teens-in-control-x-cmha-vernon-pvss-armstrong-in-school-program/2026-01-21/
LOCATION:Pleasant Valley Secondary School\, 2365 Pleasant Valley Rd\, Armstrong\, BC\, Canada
CATEGORIES:Teens in Control
ORGANIZER;CN="Gurleen Jassi - CMHA Youth Integrated Services Hub":MAILTO:youth@cmhavernon.ca
END:VEVENT
BEGIN:VEVENT
DTSTART;TZID=America/Vancouver:20260122T160000
DTEND;TZID=America/Vancouver:20260122T173000
DTSTAMP:20260423T035523
CREATED:20260106T181413Z
LAST-MODIFIED:20260106T181924Z
UID:10013358-1769097600-1769103000@www.bcss.org
SUMMARY:Teens In Control - Virtual
DESCRIPTION:The Teens in Control program is for youth ages 13-18 years old and consists of a two-day online workshop. Each session is 1.5 hours long and gives youth the opportunity to connect with peers who share similar experiences and interests. \nYouth have the chance to relax and play games while learning about mental illness\, self-care techniques\, and skills for communicating with a loved one with mental illness. \nTeens In Control – Virtual \n\nDate: Runs every Thursday for 8 weeks\, starting January 15\, 2026\nTime: 4:00 – 5:30 PM\nLocation: Virtual via Zoom\nFor more information\, please contact Kayla Arnold at frasereast@bcssyouth.org
URL:https://www.bcss.org/event/teens-in-control-virtual/2026-01-22/
LOCATION:BCSS Youth – Virtual
CATEGORIES:Teens in Control
ORGANIZER;CN="Kayla Arnold":MAILTO:frasereast@bcss.org
END:VEVENT
BEGIN:VEVENT
DTSTART;TZID=America/Vancouver:20260129T160000
DTEND;TZID=America/Vancouver:20260129T173000
DTSTAMP:20260423T035523
CREATED:20260106T181413Z
LAST-MODIFIED:20260106T181924Z
UID:10013359-1769702400-1769707800@www.bcss.org
SUMMARY:Teens In Control - Virtual
DESCRIPTION:The Teens in Control program is for youth ages 13-18 years old and consists of a two-day online workshop. Each session is 1.5 hours long and gives youth the opportunity to connect with peers who share similar experiences and interests. \nYouth have the chance to relax and play games while learning about mental illness\, self-care techniques\, and skills for communicating with a loved one with mental illness. \nTeens In Control – Virtual \n\nDate: Runs every Thursday for 8 weeks\, starting January 15\, 2026\nTime: 4:00 – 5:30 PM\nLocation: Virtual via Zoom\nFor more information\, please contact Kayla Arnold at frasereast@bcssyouth.org
URL:https://www.bcss.org/event/teens-in-control-virtual/2026-01-29/
LOCATION:BCSS Youth – Virtual
CATEGORIES:Teens in Control
ORGANIZER;CN="Kayla Arnold":MAILTO:frasereast@bcss.org
END:VEVENT
END:VCALENDAR