BEGIN:VCALENDAR
VERSION:2.0
PRODID:-//BC Schizophrenia Society - ECPv6.15.20//NONSGML v1.0//EN
CALSCALE:GREGORIAN
METHOD:PUBLISH
X-WR-CALNAME:BC Schizophrenia Society
X-ORIGINAL-URL:https://www.bcss.org
X-WR-CALDESC:Events for BC Schizophrenia Society
REFRESH-INTERVAL;VALUE=DURATION:PT1H
X-Robots-Tag:noindex
X-PUBLISHED-TTL:PT1H
BEGIN:VTIMEZONE
TZID:America/Vancouver
BEGIN:DAYLIGHT
TZOFFSETFROM:-0800
TZOFFSETTO:-0700
TZNAME:PDT
DTSTART:20250309T100000
END:DAYLIGHT
BEGIN:STANDARD
TZOFFSETFROM:-0700
TZOFFSETTO:-0800
TZNAME:PST
DTSTART:20251102T090000
END:STANDARD
BEGIN:DAYLIGHT
TZOFFSETFROM:-0800
TZOFFSETTO:-0700
TZNAME:PDT
DTSTART:20260308T100000
END:DAYLIGHT
BEGIN:STANDARD
TZOFFSETFROM:-0700
TZOFFSETTO:-0800
TZNAME:PST
DTSTART:20261101T090000
END:STANDARD
BEGIN:DAYLIGHT
TZOFFSETFROM:-0800
TZOFFSETTO:-0700
TZNAME:PDT
DTSTART:20270314T100000
END:DAYLIGHT
BEGIN:STANDARD
TZOFFSETFROM:-0700
TZOFFSETTO:-0800
TZNAME:PST
DTSTART:20271107T090000
END:STANDARD
END:VTIMEZONE
BEGIN:VEVENT
DTSTART;TZID=America/Vancouver:20260506T160000
DTEND;TZID=America/Vancouver:20260506T170000
DTSTAMP:20260423T035242
CREATED:20260409T211607Z
LAST-MODIFIED:20260409T211607Z
UID:10013220-1778083200-1778086800@www.bcss.org
SUMMARY:Teens In Control Drop-In Session
DESCRIPTION:Teens In Control Drop-in sessions give youth an opportunity to stay connected with their peers and receive ongoing support. Past participants of our TIC workshops are invited to join our virtual drop-in group. Visit BCSS Youth for more details. \nTo join the list for our drop-in groups\, or for more information\, please contact: \nAmber Miner\n(604) 442-7082\nfrasernorth@bcssyouth.org \nMary Beth Hall\n(236) 335-0917\nmanager@bcssyouth.org
URL:https://www.bcss.org/event/bcss-youth-teens-in-control-drop-in-session-2-2/2026-05-06/
CATEGORIES:Teens in Control
ORGANIZER;CN="Mary Beth Hall":MAILTO:manager@bcssyouth.org
END:VEVENT
END:VCALENDAR