BEGIN:VCALENDAR
VERSION:2.0
PRODID:-//BC Schizophrenia Society - ECPv6.15.9//NONSGML v1.0//EN
CALSCALE:GREGORIAN
METHOD:PUBLISH
X-ORIGINAL-URL:https://www.bcss.org
X-WR-CALDESC:Events for BC Schizophrenia Society
REFRESH-INTERVAL;VALUE=DURATION:PT1H
X-Robots-Tag:noindex
X-PUBLISHED-TTL:PT1H
BEGIN:VTIMEZONE
TZID:America/Vancouver
BEGIN:DAYLIGHT
TZOFFSETFROM:-0800
TZOFFSETTO:-0700
TZNAME:PDT
DTSTART:20210314T100000
END:DAYLIGHT
BEGIN:STANDARD
TZOFFSETFROM:-0700
TZOFFSETTO:-0800
TZNAME:PST
DTSTART:20211107T090000
END:STANDARD
BEGIN:DAYLIGHT
TZOFFSETFROM:-0800
TZOFFSETTO:-0700
TZNAME:PDT
DTSTART:20220313T100000
END:DAYLIGHT
BEGIN:STANDARD
TZOFFSETFROM:-0700
TZOFFSETTO:-0800
TZNAME:PST
DTSTART:20221106T090000
END:STANDARD
BEGIN:DAYLIGHT
TZOFFSETFROM:-0800
TZOFFSETTO:-0700
TZNAME:PDT
DTSTART:20230312T100000
END:DAYLIGHT
BEGIN:STANDARD
TZOFFSETFROM:-0700
TZOFFSETTO:-0800
TZNAME:PST
DTSTART:20231105T090000
END:STANDARD
END:VTIMEZONE
BEGIN:VTIMEZONE
TZID:UTC
BEGIN:STANDARD
TZOFFSETFROM:+0000
TZOFFSETTO:+0000
TZNAME:UTC
DTSTART:20210101T000000
END:STANDARD
END:VTIMEZONE
BEGIN:VTIMEZONE
TZID:America/Denver
BEGIN:DAYLIGHT
TZOFFSETFROM:-0700
TZOFFSETTO:-0600
TZNAME:MDT
DTSTART:20210314T090000
END:DAYLIGHT
BEGIN:STANDARD
TZOFFSETFROM:-0600
TZOFFSETTO:-0700
TZNAME:MST
DTSTART:20211107T080000
END:STANDARD
BEGIN:DAYLIGHT
TZOFFSETFROM:-0700
TZOFFSETTO:-0600
TZNAME:MDT
DTSTART:20220313T090000
END:DAYLIGHT
BEGIN:STANDARD
TZOFFSETFROM:-0600
TZOFFSETTO:-0700
TZNAME:MST
DTSTART:20221106T080000
END:STANDARD
BEGIN:DAYLIGHT
TZOFFSETFROM:-0700
TZOFFSETTO:-0600
TZNAME:MDT
DTSTART:20230312T090000
END:DAYLIGHT
BEGIN:STANDARD
TZOFFSETFROM:-0600
TZOFFSETTO:-0700
TZNAME:MST
DTSTART:20231105T080000
END:STANDARD
END:VTIMEZONE
BEGIN:VEVENT
DTSTART;TZID=America/Vancouver:20220601T130000
DTEND;TZID=America/Vancouver:20220601T130000
DTSTAMP:20260421T010424
CREATED:20200124T104557Z
LAST-MODIFIED:20220706T200601Z
UID:10008480-1654088400-1654088400@www.bcss.org
SUMMARY:BCSS Quesnel: Families in Residence - Saturdays
DESCRIPTION:FAMILIES in Residence\nDrop by every Saturday between 1 – 3 pm\nGR Baker Memorial Hospital\, QUESST Unit \n  \nFor more information or to register contact: \nGail Rutledge\n250-925-4145\nquesnel@bcss.org
URL:https://www.bcss.org/event/quesnel-bcss-families-in-residence-saturdays-2022-07-30/
LOCATION:GR Baker Memorial Hospital\, 543 Front Street\, Quesnel\, BC\, Canada
CATEGORIES:Family Support Group
ORGANIZER;CN="Gail Rutledge":MAILTO:quesnel@bcss.org
END:VEVENT
BEGIN:VEVENT
DTSTART;TZID=UTC:20220601T183000
DTEND;TZID=UTC:20220601T200000
DTSTAMP:20260421T010424
CREATED:20171216T032809Z
LAST-MODIFIED:20240416T223017Z
UID:10006322-1654108200-1654113600@www.bcss.org
SUMMARY:BCSS Prince George BCSS: Family Support Group – 1st and 3rd Wednesday
DESCRIPTION:1st and 3rd Wednesday of the month. 6:30 P.M. – 8:00 P.M.\nUniversity Hospital of Northern BC\, Room 410\n1475 Edmonton St\, Prince George\, BC V2M 1S2 \nContact Michelle at  250-613-3040 or pgeducator@bcss.org 
URL:https://www.bcss.org/event/prince-george-bcss-family-support-group-1st-thursdays/2022-06-01/
LOCATION:University Hospital of Northern British Columbia\, 3333 University Way\, Prince George\, BC\, Canada
CATEGORIES:Family Support Group
ORGANIZER;CN="Michelle Ellerton":MAILTO:pgeducator@bcss.org
END:VEVENT
BEGIN:VEVENT
DTSTART;TZID=America/Vancouver:20220603T080000
DTEND;TZID=America/Vancouver:20220603T090000
DTSTAMP:20260421T010424
CREATED:20220323T183506Z
LAST-MODIFIED:20221027T193803Z
UID:10007682-1654243200-1654246800@www.bcss.org
SUMMARY:BCSS Northeast Region (Fort St. John) Breakfast Support Group
DESCRIPTION:In Fort St. John a monthly Family Breakfast support group is held on the first Friday of the month at 8:00 am excepting holiday days which is then moved back 1 week.  This is an informal time for family members to meet and connect\, with opportunity to glean from family experience coping with mental illness.  Participants cover their own cost.  Initial introduction required through NE Manager who can be reached at 250-261-9189 or nemanager@bcss.org
URL:https://www.bcss.org/event/bcss-northeast-region-fort-st-john-breakfast-support-group/2022-06-03/
LOCATION:British Columbia
CATEGORIES:Family Support Group
ORGANIZER;CN="Julie Kornelsen":MAILTO:nemanager@bcss.org
END:VEVENT
BEGIN:VEVENT
DTSTART;TZID=America/Denver:20220606T190000
DTEND;TZID=America/Denver:20220606T203000
DTSTAMP:20260421T010424
CREATED:20220202T092009Z
LAST-MODIFIED:20220706T165408Z
UID:10008764-1654542000-1654547400@www.bcss.org
SUMMARY:BCSS Coastal Region Family Support Group
DESCRIPTION:We welcome anyone who identifies as a family member/ caregiver supporting someone with a major mental illness- not limited to Schizophrenia  \nLocation: Zoom \nTime: 7 :00 – 8:30 pm \nContact: \nHardeep 604-787-1814  \ncoastmanager@bcss.org
URL:https://www.bcss.org/event/bcss-vancouver-coastal-region-family-support-group/2022-06-06/
LOCATION:BCSS Vancouver/Richmond – Virtual
CATEGORIES:Family Support Group
ORGANIZER;CN="Hardeep Thind":MAILTO:coastmanager@bcss.org
END:VEVENT
BEGIN:VEVENT
DTSTART;TZID=UTC:20220607T180000
DTEND;TZID=UTC:20220607T200000
DTSTAMP:20260421T010424
CREATED:20181204T083757Z
LAST-MODIFIED:20240417T050116Z
UID:10009306-1654624800-1654632000@www.bcss.org
SUMMARY:BCSS East Kootenay Virtual Family Support Group - 2nd Tuesdays
DESCRIPTION:Do you have a friend or family member living with mental illness? – You are not alone  \nBCSS Interior Region is running in-person Family Support Groups for family members and close friends who are supporting a loved one with a severe and persistent mental illness.  \nBCSS Family Support Groups offer a safe and supportive environment for family and friends to share\, ask questions\, and connect with others who are also supporting a loved one with mental illness or substance use disorder. Family Support Groups are led by trained facilitators or educators\, and they provide support and resources to family members and caregivers of individuals with a severe and persistent mental illness. \nFamily Support Group – Virtual \n\nThe support group will be held every 2nd Tuesday of the month\nTime: 6:00 pm – 8:00 pm\nFor more information or to join this family support group\, please contact Bonnie Spence-Vinge at intmanager@bcss.org\n\n  \n 
URL:https://www.bcss.org/event/creston-family-support-group/2022-06-07/
LOCATION:BCSS – Virtual\, British Columbia\, Canada
CATEGORIES:Family Support Group
ORGANIZER;CN="Bonnie Spence-Vinge":MAILTO:intmanager@bcss.org
END:VEVENT
BEGIN:VEVENT
DTSTART;TZID=UTC:20220613T180000
DTEND;TZID=UTC:20220613T200000
DTSTAMP:20260421T010424
CREATED:20200128T045240Z
LAST-MODIFIED:20220205T063748Z
UID:10008242-1655143200-1655150400@www.bcss.org
SUMMARY:BCSS Nelson: Family Support Group – 2nd Mondays
DESCRIPTION:The group is for family and friends and others who care for a loved one with mental illness. \nFor more information call 250-505-2976 or email westkootenay@bcss.org
URL:https://www.bcss.org/event/nelson-bcss-family-support-group-2nd-mondays/2022-06-13/
LOCATION:Nelson Christian Community School\, 810-10th Street\, Nelson\, BC
CATEGORIES:Family Support Group
ORGANIZER;CN="Melissa Michaud":MAILTO:westkootenay@bcss.org
GEO:49.505999;-117.268795
X-APPLE-STRUCTURED-LOCATION;VALUE=URI;X-ADDRESS=Nelson Christian Community School 810-10th Street Nelson BC;X-APPLE-RADIUS=500;X-TITLE=810-10th Street:geo:-117.268795,49.505999
END:VEVENT
BEGIN:VEVENT
DTSTART;TZID=UTC:20220615T183000
DTEND;TZID=UTC:20220615T200000
DTSTAMP:20260421T010424
CREATED:20240417T044027Z
LAST-MODIFIED:20240417T191722Z
UID:10006406-1655317800-1655323200@www.bcss.org
SUMMARY:Prince George Family Support Group
DESCRIPTION:1st and 3rd Wednesday of the month. 6:30 P.M. – 8:00 P.M.\nUniversity Hospital of Northern BC\, Room 410\n1475 Edmonton St\, Prince George\, BC V2M 1S2 \nContact Michelle at  250-613-3040 or pgeducator@bcss.org 
URL:https://www.bcss.org/event/prince-george-bcss-family-support-group-1st-thursdays-2/2022-06-15/
LOCATION:University Hospital of Northern British Columbia\, 3333 University Way\, Prince George\, BC\, Canada
CATEGORIES:Family Support Group
ORGANIZER;CN="Michelle Ellerton":MAILTO:pgeducator@bcss.org
END:VEVENT
BEGIN:VEVENT
DTSTART;TZID=America/Denver:20220615T190000
DTEND;TZID=America/Denver:20220615T203000
DTSTAMP:20260421T010424
CREATED:20220202T092009Z
LAST-MODIFIED:20220706T165408Z
UID:10008765-1655319600-1655325000@www.bcss.org
SUMMARY:BCSS Coastal Region Family Support Group
DESCRIPTION:We welcome anyone who identifies as a family member/ caregiver supporting someone with a major mental illness- not limited to Schizophrenia  \nLocation: Zoom \nTime: 7 :00 – 8:30 pm \nContact: \nHardeep 604-787-1814  \ncoastmanager@bcss.org
URL:https://www.bcss.org/event/bcss-vancouver-coastal-region-family-support-group/2022-06-15/
LOCATION:BCSS Vancouver/Richmond – Virtual
CATEGORIES:Family Support Group
ORGANIZER;CN="Hardeep Thind":MAILTO:coastmanager@bcss.org
END:VEVENT
BEGIN:VEVENT
DTSTART;TZID=America/Vancouver:20220627T180000
DTEND;TZID=America/Vancouver:20220627T200000
DTSTAMP:20260421T010424
CREATED:20171214T060918Z
LAST-MODIFIED:20220720T200817Z
UID:10007995-1656352800-1656360000@www.bcss.org
SUMMARY:Kamloops BCSS: Family Support Group – 4th Mondays
DESCRIPTION:BCSS Kamloops offers a monthly support group for family and friends of persons with a mental illness. \nDate: 4th Monday of the month\nTime: 6:00 – 8:00 p.m.\nLocation: Due to COVID-19\, all Family Support Group sessions will be conducted via Zoom until further notice. \nPre-registration is required to receive the Zoom link. \nFor more information please contact Rosanne Nelson at 250-571-6955 or thompsonnicola@bcss.org \n 
URL:https://www.bcss.org/event/kamloops-bcss-family-support-group-4th-mondays-2020-08-24/2022-06-27/
LOCATION:British Columbia
CATEGORIES:Family Support Group
ORGANIZER;CN="Rosanne Nelson":MAILTO:thompsonnicola@bcss.org
END:VEVENT
BEGIN:VEVENT
DTSTART;TZID=America/Denver:20220628T190000
DTEND;TZID=America/Denver:20220628T203000
DTSTAMP:20260421T010424
CREATED:20220112T034006Z
LAST-MODIFIED:20221101T190447Z
UID:10008687-1656442800-1656448200@www.bcss.org
SUMMARY:BCSS Sibling Support Group
DESCRIPTION:Do you have a sibling struggling with mental illness? You are not alone. BCSS’ Sibling Support Group is here to help you make sense of what your sibling is going through\, better relate to them\, and provide a stable system of care and support to them. \nThe sessions may cover various topics\, including: \n\nsupport and empathy from other siblings\ntechniques for improved communications\nhow to access community resources\, mental health services\, and after-hours support\n\nThe support group is held virtually on the last Tuesday of the month\, from 7:00-8:30 PST. \nTo register\, contact: \nHeather \n250-691-1132 | lakesdistrict@bcss.org \nSibling Support Group info.pdf
URL:https://www.bcss.org/event/bcss-sibling-support-group/2022-06-28/
LOCATION:Online\, Canada
CATEGORIES:Family Support Group,Sibling Support Group
ORGANIZER;CN="Heather Megchelsen":MAILTO:lakesdistrict@bcss.org
END:VEVENT
BEGIN:VEVENT
DTSTART;TZID=UTC:20220629T190000
DTEND;TZID=UTC:20220629T203000
DTSTAMP:20260421T010424
CREATED:20200123T035430Z
LAST-MODIFIED:20221027T195048Z
UID:10008112-1656529200-1656534600@www.bcss.org
SUMMARY:BCSS Fort St. John: Family Support Group - Last Wednesdays
DESCRIPTION:Fort St. John BCSS Family Support Group\nLast Wednesday of the month \nFor details and to register\, please contact:\nJulie Kornelsen\n250-261-9189\nnemanager@bcss.org 
URL:https://www.bcss.org/event/fort-st-john-bcss-family-support-group-last-wednesdays/2022-06-29/
LOCATION:Fort St. John\, Fort St. John\, BC\, Canada
CATEGORIES:Family Support Group
ORGANIZER;CN="Julie Kornelsen":MAILTO:nemanager@bcss.org
END:VEVENT
END:VCALENDAR