BEGIN:VCALENDAR
VERSION:2.0
PRODID:-//BC Schizophrenia Society - ECPv6.15.9//NONSGML v1.0//EN
CALSCALE:GREGORIAN
METHOD:PUBLISH
X-ORIGINAL-URL:https://www.bcss.org
X-WR-CALDESC:Events for BC Schizophrenia Society
REFRESH-INTERVAL;VALUE=DURATION:PT1H
X-Robots-Tag:noindex
X-PUBLISHED-TTL:PT1H
BEGIN:VTIMEZONE
TZID:America/Vancouver
BEGIN:DAYLIGHT
TZOFFSETFROM:-0800
TZOFFSETTO:-0700
TZNAME:PDT
DTSTART:20220313T100000
END:DAYLIGHT
BEGIN:STANDARD
TZOFFSETFROM:-0700
TZOFFSETTO:-0800
TZNAME:PST
DTSTART:20221106T090000
END:STANDARD
BEGIN:DAYLIGHT
TZOFFSETFROM:-0800
TZOFFSETTO:-0700
TZNAME:PDT
DTSTART:20230312T100000
END:DAYLIGHT
BEGIN:STANDARD
TZOFFSETFROM:-0700
TZOFFSETTO:-0800
TZNAME:PST
DTSTART:20231105T090000
END:STANDARD
BEGIN:DAYLIGHT
TZOFFSETFROM:-0800
TZOFFSETTO:-0700
TZNAME:PDT
DTSTART:20240310T100000
END:DAYLIGHT
BEGIN:STANDARD
TZOFFSETFROM:-0700
TZOFFSETTO:-0800
TZNAME:PST
DTSTART:20241103T090000
END:STANDARD
BEGIN:DAYLIGHT
TZOFFSETFROM:-0800
TZOFFSETTO:-0700
TZNAME:PDT
DTSTART:20250309T100000
END:DAYLIGHT
BEGIN:STANDARD
TZOFFSETFROM:-0700
TZOFFSETTO:-0800
TZNAME:PST
DTSTART:20251102T090000
END:STANDARD
END:VTIMEZONE
BEGIN:VTIMEZONE
TZID:UTC
BEGIN:STANDARD
TZOFFSETFROM:+0000
TZOFFSETTO:+0000
TZNAME:UTC
DTSTART:20220101T000000
END:STANDARD
END:VTIMEZONE
BEGIN:VTIMEZONE
TZID:America/Denver
BEGIN:DAYLIGHT
TZOFFSETFROM:-0700
TZOFFSETTO:-0600
TZNAME:MDT
DTSTART:20220313T090000
END:DAYLIGHT
BEGIN:STANDARD
TZOFFSETFROM:-0600
TZOFFSETTO:-0700
TZNAME:MST
DTSTART:20221106T080000
END:STANDARD
BEGIN:DAYLIGHT
TZOFFSETFROM:-0700
TZOFFSETTO:-0600
TZNAME:MDT
DTSTART:20230312T090000
END:DAYLIGHT
BEGIN:STANDARD
TZOFFSETFROM:-0600
TZOFFSETTO:-0700
TZNAME:MST
DTSTART:20231105T080000
END:STANDARD
BEGIN:DAYLIGHT
TZOFFSETFROM:-0700
TZOFFSETTO:-0600
TZNAME:MDT
DTSTART:20240310T090000
END:DAYLIGHT
BEGIN:STANDARD
TZOFFSETFROM:-0600
TZOFFSETTO:-0700
TZNAME:MST
DTSTART:20241103T080000
END:STANDARD
END:VTIMEZONE
BEGIN:VEVENT
DTSTART;TZID=America/Vancouver:20230201T160000
DTEND;TZID=America/Vancouver:20230201T170000
DTSTAMP:20260420T123111
CREATED:20220720T201304Z
LAST-MODIFIED:20240417T043507Z
UID:10007796-1675267200-1675270800@www.bcss.org
SUMMARY:BCSS Youth: Teens in Control Drop-In Group
DESCRIPTION:Teens in Control provides support\, education\, coping skills\, and a safe space to talk\, to youth with a family member who has a mental illness. Teens in Control is for participants between the ages of 13-18\, across BC. \nVisit BCSS Youth for more details. \nTo join the list for our virtual drop-in groups\, or for more information\, please contact: \nKayla Arnold\n(778) 839-1458\nfrasereast@bcssyouth.org \nMary Beth Hall\n(236) 335-0917\nmanager@bcssyouth.org
URL:https://www.bcss.org/event/teens-in-control-drop-in-group/2023-02-01/
LOCATION:British Columbia
CATEGORIES:Teens in Control
ORGANIZER;CN="Kayla Arnold":MAILTO:frasereast@bcss.org
END:VEVENT
BEGIN:VEVENT
DTSTART;TZID=UTC:20230201T183000
DTEND;TZID=UTC:20230201T200000
DTSTAMP:20260420T123111
CREATED:20171216T032809Z
LAST-MODIFIED:20240416T223017Z
UID:10006330-1675276200-1675281600@www.bcss.org
SUMMARY:BCSS Prince George BCSS: Family Support Group – 1st and 3rd Wednesday
DESCRIPTION:1st and 3rd Wednesday of the month. 6:30 P.M. – 8:00 P.M.\nUniversity Hospital of Northern BC\, Room 410\n1475 Edmonton St\, Prince George\, BC V2M 1S2 \nContact Michelle at  250-613-3040 or pgeducator@bcss.org 
URL:https://www.bcss.org/event/prince-george-bcss-family-support-group-1st-thursdays/2023-02-01/
LOCATION:University Hospital of Northern British Columbia\, 3333 University Way\, Prince George\, BC\, Canada
CATEGORIES:Family Support Group
ORGANIZER;CN="Michelle Ellerton":MAILTO:pgeducator@bcss.org
END:VEVENT
BEGIN:VEVENT
DTSTART;TZID=America/Vancouver:20230203T080000
DTEND;TZID=America/Vancouver:20230203T090000
DTSTAMP:20260420T123111
CREATED:20220323T183506Z
LAST-MODIFIED:20221027T193803Z
UID:10007690-1675411200-1675414800@www.bcss.org
SUMMARY:BCSS Northeast Region (Fort St. John) Breakfast Support Group
DESCRIPTION:In Fort St. John a monthly Family Breakfast support group is held on the first Friday of the month at 8:00 am excepting holiday days which is then moved back 1 week.  This is an informal time for family members to meet and connect\, with opportunity to glean from family experience coping with mental illness.  Participants cover their own cost.  Initial introduction required through NE Manager who can be reached at 250-261-9189 or nemanager@bcss.org
URL:https://www.bcss.org/event/bcss-northeast-region-fort-st-john-breakfast-support-group/2023-02-03/
LOCATION:British Columbia
CATEGORIES:Family Support Group
ORGANIZER;CN="Julie Kornelsen":MAILTO:nemanager@bcss.org
END:VEVENT
BEGIN:VEVENT
DTSTART;TZID=UTC:20230207T180000
DTEND;TZID=UTC:20230207T200000
DTSTAMP:20260420T123111
CREATED:20181204T083757Z
LAST-MODIFIED:20240417T050116Z
UID:10009314-1675792800-1675800000@www.bcss.org
SUMMARY:BCSS East Kootenay Virtual Family Support Group - 2nd Tuesdays
DESCRIPTION:Do you have a friend or family member living with mental illness? – You are not alone  \nBCSS Interior Region is running in-person Family Support Groups for family members and close friends who are supporting a loved one with a severe and persistent mental illness.  \nBCSS Family Support Groups offer a safe and supportive environment for family and friends to share\, ask questions\, and connect with others who are also supporting a loved one with mental illness or substance use disorder. Family Support Groups are led by trained facilitators or educators\, and they provide support and resources to family members and caregivers of individuals with a severe and persistent mental illness. \nFamily Support Group – Virtual \n\nThe support group will be held every 2nd Tuesday of the month\nTime: 6:00 pm – 8:00 pm\nFor more information or to join this family support group\, please contact Bonnie Spence-Vinge at intmanager@bcss.org\n\n  \n 
URL:https://www.bcss.org/event/creston-family-support-group/2023-02-07/
LOCATION:BCSS – Virtual\, British Columbia\, Canada
CATEGORIES:Family Support Group
ORGANIZER;CN="Bonnie Spence-Vinge":MAILTO:intmanager@bcss.org
END:VEVENT
BEGIN:VEVENT
DTSTART;TZID=America/Vancouver:20230208T160000
DTEND;TZID=America/Vancouver:20230208T170000
DTSTAMP:20260420T123111
CREATED:20220720T202103Z
LAST-MODIFIED:20220804T004457Z
UID:10007822-1675872000-1675875600@www.bcss.org
SUMMARY:BCSS Youth: Kids in Control Drop-In Group
DESCRIPTION:Kids in Control provides support\, education\, coping skills\, and a safe space to talk\, to youth with a family member who has a mental illness. Kids in Control is for participants between the ages of 8-12\, across BC. \nPast participants of our Kids in Control workshops are invited to join our virtual drop-in group. \nVisit Kids In Control for more details. \nTo join the list for our drop-in groups\, or for more information\, please contact: \nKayla Arnold\n(778) 839-1458\nkicfrasereast@bcss.org \nYvonne Dion\n(604) 353-6669\nkicabbotsford@bcss.org
URL:https://www.bcss.org/event/kids-in-control-drop-in-group/2023-02-08/
LOCATION:British Columbia
CATEGORIES:Kids In Control
ORGANIZER;CN="Kayla Arnold":MAILTO:frasereast@bcss.org
END:VEVENT
BEGIN:VEVENT
DTSTART;TZID=UTC:20230213T180000
DTEND;TZID=UTC:20230213T200000
DTSTAMP:20260420T123111
CREATED:20200128T045240Z
LAST-MODIFIED:20220205T063748Z
UID:10008249-1676311200-1676318400@www.bcss.org
SUMMARY:BCSS Nelson: Family Support Group – 2nd Mondays
DESCRIPTION:The group is for family and friends and others who care for a loved one with mental illness. \nFor more information call 250-505-2976 or email westkootenay@bcss.org
URL:https://www.bcss.org/event/nelson-bcss-family-support-group-2nd-mondays/2023-02-13/
LOCATION:Nelson Christian Community School\, 810-10th Street\, Nelson\, BC
CATEGORIES:Family Support Group
ORGANIZER;CN="Melissa Michaud":MAILTO:westkootenay@bcss.org
GEO:49.505999;-117.268795
X-APPLE-STRUCTURED-LOCATION;VALUE=URI;X-ADDRESS=Nelson Christian Community School 810-10th Street Nelson BC;X-APPLE-RADIUS=500;X-TITLE=810-10th Street:geo:-117.268795,49.505999
END:VEVENT
BEGIN:VEVENT
DTSTART;TZID=America/Vancouver:20230213T190000
DTEND;TZID=America/Vancouver:20230213T203000
DTSTAMP:20260420T123111
CREATED:20230109T211610Z
LAST-MODIFIED:20230109T211610Z
UID:10009033-1676314800-1676320200@www.bcss.org
SUMMARY:BCSS Coastal Team In-Person Family Support Group
DESCRIPTION:When:  Jan 16 & Feb 13 2023 \nTime: 7:00 PM- 08:30 PM \nWhere: Thompson Community Centre\, 5151 Granville Ave\, Richmond\, BC \nRoom: Multi-Purpose Room 1 \nParking: When you are on Granville St\, please turn right on Lynas Lane and make your first left which will bring you to the parking lot of the community centre. \nThe in-person support group would be facilitated by Stella Rockel and Noleen Mueller. \nContact: \nStella Rockel\, 604-720-3935\,  fraser@bcss.org \nNoleen Mueller\, 778-836-1886\, vanrich@bcss.org\ns \nCovid protocols: Hand sanitisers will be available & masks are optional.
URL:https://www.bcss.org/event/bcss-coastal-team-in-person-family-support-group/2023-02-13/
LOCATION:British Columbia
CATEGORIES:Family Support Group
ORGANIZER;CN="Noleen Mueller":MAILTO:vanrich@bcss.org
END:VEVENT
BEGIN:VEVENT
DTSTART;TZID=UTC:20230215T183000
DTEND;TZID=UTC:20230215T200000
DTSTAMP:20260420T123111
CREATED:20240417T044027Z
LAST-MODIFIED:20240417T191722Z
UID:10006414-1676485800-1676491200@www.bcss.org
SUMMARY:Prince George Family Support Group
DESCRIPTION:1st and 3rd Wednesday of the month. 6:30 P.M. – 8:00 P.M.\nUniversity Hospital of Northern BC\, Room 410\n1475 Edmonton St\, Prince George\, BC V2M 1S2 \nContact Michelle at  250-613-3040 or pgeducator@bcss.org 
URL:https://www.bcss.org/event/prince-george-bcss-family-support-group-1st-thursdays-2/2023-02-15/
LOCATION:University Hospital of Northern British Columbia\, 3333 University Way\, Prince George\, BC\, Canada
CATEGORIES:Family Support Group
ORGANIZER;CN="Michelle Ellerton":MAILTO:pgeducator@bcss.org
END:VEVENT
BEGIN:VEVENT
DTSTART;TZID=America/Vancouver:20230223T190000
DTEND;TZID=America/Vancouver:20230223T203000
DTSTAMP:20260420T123111
CREATED:20240417T044052Z
LAST-MODIFIED:20240417T044052Z
UID:10008800-1677178800-1677184200@www.bcss.org
SUMMARY:BCSS North Vancouver Island Family Support Group - Second and Fourth Thursdays
DESCRIPTION:Family Support Group in the North Vancouver Island Region is offered twice every month (second and fourth Thursday of the month) from 7:00 – 8:30 pm. \nRegister today! \nContact: \nMichelle Gallant – Regional Educator\, North Vancouver Island \n250-937-0782\nnorthvi@bcss.org
URL:https://www.bcss.org/event/bcss-north-vancouver-island-family-support-group-second-and-fourth-thursdays/2023-02-23/
LOCATION:British Columbia
CATEGORIES:Family Support Group
ORGANIZER;CN="Michelle Gallant":MAILTO:northvi@bcss.org
END:VEVENT
BEGIN:VEVENT
DTSTART;TZID=America/Vancouver:20230228T120000
DTEND;TZID=America/Vancouver:20240228T140000
DTSTAMP:20260420T123111
CREATED:20230213T203507Z
LAST-MODIFIED:20230213T205319Z
UID:10009034-1677585600-1709128800@www.bcss.org
SUMMARY:Family Support Group in Kamloops - Last Tuesday of each month
DESCRIPTION:On Last Tuesday of each month.\nBeginning February 28\, 2023\nIn-person at 286 Tranquille Road\, 2nd Floor\, Kamloops BC\n12:00 pm – 2:00 pm\n\nPlease Pre-Register.
URL:https://www.bcss.org/event/family-support-group-in-kamloops-last-tuesday-of-each-month/2023-02-28/
LOCATION:The United Way Xchange\, 286 Tranquille Road\, Kamloops\, BC\, Canada
CATEGORIES:Family Support Group
END:VEVENT
BEGIN:VEVENT
DTSTART;TZID=America/Denver:20230228T190000
DTEND;TZID=America/Denver:20230228T203000
DTSTAMP:20260420T123111
CREATED:20220112T034006Z
LAST-MODIFIED:20221101T190447Z
UID:10008695-1677610800-1677616200@www.bcss.org
SUMMARY:BCSS Sibling Support Group
DESCRIPTION:Do you have a sibling struggling with mental illness? You are not alone. BCSS’ Sibling Support Group is here to help you make sense of what your sibling is going through\, better relate to them\, and provide a stable system of care and support to them. \nThe sessions may cover various topics\, including: \n\nsupport and empathy from other siblings\ntechniques for improved communications\nhow to access community resources\, mental health services\, and after-hours support\n\nThe support group is held virtually on the last Tuesday of the month\, from 7:00-8:30 PST. \nTo register\, contact: \nHeather \n250-691-1132 | lakesdistrict@bcss.org \nSibling Support Group info.pdf
URL:https://www.bcss.org/event/bcss-sibling-support-group/2023-02-28/
LOCATION:Online\, Canada
CATEGORIES:Family Support Group,Sibling Support Group
ORGANIZER;CN="Heather Megchelsen":MAILTO:lakesdistrict@bcss.org
END:VEVENT
END:VCALENDAR