BEGIN:VCALENDAR
VERSION:2.0
PRODID:-//BC Schizophrenia Society - ECPv6.15.20//NONSGML v1.0//EN
CALSCALE:GREGORIAN
METHOD:PUBLISH
X-WR-CALNAME:BC Schizophrenia Society
X-ORIGINAL-URL:https://www.bcss.org
X-WR-CALDESC:Events for BC Schizophrenia Society
REFRESH-INTERVAL;VALUE=DURATION:PT1H
X-Robots-Tag:noindex
X-PUBLISHED-TTL:PT1H
BEGIN:VTIMEZONE
TZID:UTC
BEGIN:STANDARD
TZOFFSETFROM:+0000
TZOFFSETTO:+0000
TZNAME:UTC
DTSTART:20260101T000000
END:STANDARD
END:VTIMEZONE
BEGIN:VTIMEZONE
TZID:America/Edmonton
BEGIN:DAYLIGHT
TZOFFSETFROM:-0700
TZOFFSETTO:-0600
TZNAME:MDT
DTSTART:20260308T090000
END:DAYLIGHT
BEGIN:STANDARD
TZOFFSETFROM:-0600
TZOFFSETTO:-0700
TZNAME:MST
DTSTART:20261101T080000
END:STANDARD
BEGIN:DAYLIGHT
TZOFFSETFROM:-0700
TZOFFSETTO:-0600
TZNAME:MDT
DTSTART:20270314T090000
END:DAYLIGHT
BEGIN:STANDARD
TZOFFSETFROM:-0600
TZOFFSETTO:-0700
TZNAME:MST
DTSTART:20271107T080000
END:STANDARD
BEGIN:DAYLIGHT
TZOFFSETFROM:-0700
TZOFFSETTO:-0600
TZNAME:MDT
DTSTART:20280312T090000
END:DAYLIGHT
BEGIN:STANDARD
TZOFFSETFROM:-0600
TZOFFSETTO:-0700
TZNAME:MST
DTSTART:20281105T080000
END:STANDARD
END:VTIMEZONE
BEGIN:VTIMEZONE
TZID:America/Vancouver
BEGIN:DAYLIGHT
TZOFFSETFROM:-0800
TZOFFSETTO:-0700
TZNAME:PDT
DTSTART:20260308T100000
END:DAYLIGHT
BEGIN:STANDARD
TZOFFSETFROM:-0700
TZOFFSETTO:-0800
TZNAME:PST
DTSTART:20261101T090000
END:STANDARD
BEGIN:DAYLIGHT
TZOFFSETFROM:-0800
TZOFFSETTO:-0700
TZNAME:PDT
DTSTART:20270314T100000
END:DAYLIGHT
BEGIN:STANDARD
TZOFFSETFROM:-0700
TZOFFSETTO:-0800
TZNAME:PST
DTSTART:20271107T090000
END:STANDARD
BEGIN:DAYLIGHT
TZOFFSETFROM:-0800
TZOFFSETTO:-0700
TZNAME:PDT
DTSTART:20280312T100000
END:DAYLIGHT
BEGIN:STANDARD
TZOFFSETFROM:-0700
TZOFFSETTO:-0800
TZNAME:PST
DTSTART:20281105T090000
END:STANDARD
END:VTIMEZONE
BEGIN:VEVENT
DTSTART;TZID=UTC:20270208T180000
DTEND;TZID=UTC:20270208T200000
DTSTAMP:20260423T035119
CREATED:20240417T045126Z
LAST-MODIFIED:20240417T190038Z
UID:10009227-1802109600-1802116800@www.bcss.org
SUMMARY:Nelson Family Support Group
DESCRIPTION:Do you have a friend or family member living with mental illness? – You are not alone. \nBCSS West Kooteney is running in-person Family Support Groups for family members and close friends who are supporting a loved one with a severe and persistent mental illness.  \nBCSS Family Support Groups offer a safe and supportive environment for family and friends to share\, ask questions\, and connect with others who are also supporting a loved one with mental illness or substance use disorder. Family Support Groups are led by trained facilitators or educators\, and they provide support and resources to family members and caregivers of individuals with a severe and persistent mental illness. \n  \nFamily Support Group – In-Person \n\nThe support group will be held every 2nd Monday of the month\nTime: 6:00 pm – 8:00 pm\nLocation: Nelson United Church –  602 Silica St\, Nelson\, BC\, V1L 4N1\nFor more information or to join this family support group\, please contact Reasha Wolfe at westkootenay@bcss.org
URL:https://www.bcss.org/event/nelson-bcss-family-support-group-2nd-mondays-2/2027-02-08/
LOCATION:Nelson United Church\, 602 Silica St\, Nelson\, British Columbia\, Canada
CATEGORIES:Family Support Group
ORGANIZER;CN="Reasha Wolfe":MAILTO:westkootenay@bcss.org
END:VEVENT
BEGIN:VEVENT
DTSTART;TZID=America/Edmonton:20270209T183000
DTEND;TZID=America/Edmonton:20270209T203000
DTSTAMP:20260423T035119
CREATED:20240527T215007Z
LAST-MODIFIED:20240527T215007Z
UID:10011185-1802197800-1802205000@www.bcss.org
SUMMARY:East Kootenay Virtual Family Support Group
DESCRIPTION:Do you have a friend or family member living with mental illness? – You are not alone  \nBCSS Interior Region is running Family Support Groups for family members and close friends who are supporting a loved one with a severe and persistent mental illness.  \nBCSS Family Support Groups offer a safe and supportive environment for family and friends to share\, ask questions\, and connect with others who are also supporting a loved one with mental illness or substance use disorder. Family Support Groups are led by trained facilitators or educators\, and they provide support and resources to family members and caregivers of individuals with a severe and persistent mental illness. \nFamily Support Group – Virtual \n\nThe support group will be held every 2nd Tuesday of the month\nTime: 6:30 pm – 8:30 pm MST\nFor more information or to join this family support group\, please contact Bonnie Spence-Vinge at intmanager@bcss.org\n\n  \n 
URL:https://www.bcss.org/event/east-kootenay-fsg-2-2/2027-02-09/
LOCATION:BC
CATEGORIES:Family Support Group
ORGANIZER;CN="Bonnie Spence-Vinge":MAILTO:intmanager@bcss.org
END:VEVENT
BEGIN:VEVENT
DTSTART;TZID=UTC:20270216T180000
DTEND;TZID=UTC:20270216T193000
DTSTAMP:20260423T035119
CREATED:20260210T012735Z
LAST-MODIFIED:20260210T012736Z
UID:10012939-1802800800-1802806200@www.bcss.org
SUMMARY:Northwest Family Support Group - Virtual
DESCRIPTION:Do you have a friend or family member living with mental illness? – You are not alone  \nBCSS Northwest is running virtual Family Support Groups for family members and close friends who are supporting a loved one with a severe and persistent mental illness. It is open to anyone in the Northwest area\, including Prince Rupert\, Terrace\, Haida Gwaii\, and Bulkley Valley. This program offers a safe and supportive environment for family and friends to share\, ask questions\, and connect with others who are also supporting a loved one with mental illness or substance use disorder. Family Support Groups are led by trained facilitators or educators\, and they provide support and resources to family members and caregivers of individuals with a severe and persistent mental illness. \nFamily Support Group – Virtual \n\nThe support group will be held every 3rd Tuesday of the month\nTime: 6:00 – 7:30 PM\nMeetings are online via Zoom and registration is required.\n\n\nFor more information\, contact Reneé Irvine (princerupert@bcss.org) or Stephanie Gardner (terrace@bcss.org). \n\nNote: This FSG doesn’t run in the months of July and August
URL:https://www.bcss.org/event/northwest-virtual-fsg-2/2027-02-16/
LOCATION:BC
CATEGORIES:Family Support Group
ORGANIZER;CN="Stephanie Gardner":MAILTO:terrace@bcss.org
END:VEVENT
BEGIN:VEVENT
DTSTART;TZID=America/Vancouver:20270216T180000
DTEND;TZID=America/Vancouver:20270216T193000
DTSTAMP:20260423T035119
CREATED:20260210T012739Z
LAST-MODIFIED:20260210T012740Z
UID:10009866-1802800800-1802806200@www.bcss.org
SUMMARY:Prince Rupert Family Support Group
DESCRIPTION:Do you have a friend or family member living with mental illness? – You are not alone  \nBCSS Family Support Groups offer a safe and supportive environment for family and friends to share\, ask questions\, and connect with others who are also supporting a loved one with mental illness or substance use disorder. Family Support Groups are led by trained facilitators or educators\, and they provide support and resources to family members and caregivers of individuals with a severe and persistent mental illness. \n\nThe support group will be held every 3rd Tuesday of the month\nTime: 6:00 – 7:30 pm\nLocation: 635 Mckay Street\, Prince Rupert\, BC\n\nYou can also join virtually if you’re unable to attend in person. \nFor more information\, contact Reneé Irvine (princerupert@bcss.org) or Stephanie Gardner (terrace@bcss.org). \nNote: This FSG doesn’t run in the months of July and August
URL:https://www.bcss.org/event/prince-rupert-family-support-group-2-2-2/2027-02-16/
LOCATION:635 Mckay St. Prince Rupert\, BC\, 635 Mckay St\, Prince Rupert\, BC\, Canada
CATEGORIES:Family Support Group
ORGANIZER;CN="Rene%C3%A9 Irvine":MAILTO:princerupert@bcss.org
END:VEVENT
BEGIN:VEVENT
DTSTART;TZID=America/Vancouver:20270216T180000
DTEND;TZID=America/Vancouver:20270216T193000
DTSTAMP:20260423T035119
CREATED:20260210T012753Z
LAST-MODIFIED:20260210T012754Z
UID:10012880-1802800800-1802806200@www.bcss.org
SUMMARY:Terrace Family Support Group
DESCRIPTION:Do you have a friend or family member living with mental illness? – You are not alone  \nBCSS Family Support Groups offer a safe and supportive environment for family and friends to share\, ask questions\, and connect with others who are also supporting a loved one with mental illness or substance use disorder. Family Support Groups are led by trained facilitators or educators\, and they provide support and resources to family members and caregivers of individuals with a severe and persistent mental illness. \n\nThe support group will be held every 3rd Tuesday of the month\nTime: 6:00 – 7:30 pm\nLocation: #210\, 4546 Park Avenue\, Terrace\, BC\n\nYou can also join virtually if you’re unable to attend in person. \nFor more information\, contact Reneé Irvine (princerupert@bcss.org) or Stephanie Gardner (terrace@bcss.org). \nNote: This FSG doesn’t run in the months of July and August
URL:https://www.bcss.org/event/terrace-family-support-group-2/2027-02-16/
LOCATION:210-4546 Park Avenue\, Terrace BC\, 210-4546 Park Avenue\, Terrace\, British Columbia\, Canada
CATEGORIES:Family Support Group
ORGANIZER;CN="Stephanie Gardner":MAILTO:terrace@bcss.org
END:VEVENT
BEGIN:VEVENT
DTSTART;TZID=America/Vancouver:20270218T180000
DTEND;TZID=America/Vancouver:20270218T193000
DTSTAMP:20260423T035119
CREATED:20251008T194917Z
LAST-MODIFIED:20251008T194918Z
UID:10010284-1802973600-1802979000@www.bcss.org
SUMMARY:Nanaimo Family Support Group
DESCRIPTION:Do you have a friend or family member living with mental illness? – You are not alone  \nBCSS Vancouver Island Region is running in-person Family Support Groups for family members and close friends who are supporting a loved one with a severe and persistent mental illness.  \nBCSS Family Support Groups offer a safe and supportive environment for family and friends to share\, ask questions\, and connect with others who are also supporting a loved one with mental illness or substance use disorder. Family Support Groups are led by trained facilitators or educators\, and they provide support and resources to family members and caregivers of individuals with a severe and persistent mental illness.   \nFamily Support Group – In-Person \n\n3rd Thursday of each month\nTime: 6:00 pm – 7:30 pm\n\nLocation: Bowen Park Complex Room 2 – 500 Bowen Road\, Nanaimo\nFor more information or to join this family support group\, please contact Christine Riddell at 250-937-1403 or centralvi@bcss.org
URL:https://www.bcss.org/event/nanaimo-family-support-group-3/2027-02-18/
LOCATION:500 Bowen Road\, Nanaimo\, Bowen Park Complex Room 2 - 500 Bowen Road\, Nanaimo\, British Columbia\, Canada
CATEGORIES:Family Support Group
ORGANIZER;CN="Christine Riddell":MAILTO:vimanager@bcss.org
END:VEVENT
BEGIN:VEVENT
DTSTART;TZID=America/Vancouver:20270219T130000
DTEND;TZID=America/Vancouver:20270219T150000
DTSTAMP:20260423T035119
CREATED:20240418T202230Z
LAST-MODIFIED:20240418T210905Z
UID:10010717-1803042000-1803049200@www.bcss.org
SUMMARY:Creston Family Support Group
DESCRIPTION:Do you have a friend or family member living with mental illness? – You are not alone  \nBCSS Interior Region is running in-person Family Support Groups for family members and close friends who are supporting a loved one with a severe and persistent mental illness.  \nBCSS Family Support Groups offer a safe and supportive environment for family and friends to share\, ask questions\, and connect with others who are also supporting a loved one with mental illness or substance use disorder. Family Support Groups are led by trained facilitators or educators\, and they provide support and resources to family members and caregivers of individuals with a severe and persistent mental illness. \nFamily Support Group – In-Person \n\nThe support group will be held on the third Friday of each month\nTime: 1:00 pm – 3:00 pm PST\nLocation: Erickson Covenant Church\nFor more information or to join this family support group\, please contact Bonnie Spence-Vinge at intmanager@bcss.org\n\n  \n 
URL:https://www.bcss.org/event/creston-family-support-group-3/2027-02-19/
LOCATION:Erickson Covenant Church\, 4017 Canyon-Lister Road\, Erickson\, B.C.\, V0B1K0\, Canada
CATEGORIES:Family Support Group
ORGANIZER;CN="Bonnie Spence-Vinge":MAILTO:intmanager@bcss.org
END:VEVENT
BEGIN:VEVENT
DTSTART;TZID=America/Vancouver:20270223T183000
DTEND;TZID=America/Vancouver:20270223T200000
DTSTAMP:20260423T035119
CREATED:20240417T060326Z
LAST-MODIFIED:20240417T191952Z
UID:10010224-1803407400-1803412800@www.bcss.org
SUMMARY:Cranbrook Family Support Group
DESCRIPTION:Do you have a friend or family member living with mental illness? – You are not alone  \nBCSS Interior Region is running in-person Family Support Groups for family members and close friends who are supporting a loved one with a severe and persistent mental illness.  \nBCSS Family Support Groups offer a safe and supportive environment for family and friends to share\, ask questions\, and connect with others who are also supporting a loved one with mental illness or substance use disorder. Family Support Groups are led by trained facilitators or educators\, and they provide support and resources to family members and caregivers of individuals with a severe and persistent mental illness. \n  \nFamily Support Group – In-Person \n\nThe support group will be held every fourth Tuesday of the month\nTime: 6:30 pm – 8:00 pm\nLocation: Cranbrook District Teachers Association Office – #304 – 105 – 9th Avenue South\, Cranbrook\, BC V1C 2M1\nFor more information or to join this family support group\, please contact Bonnie Spence-Vinge at intmanager@bcss.org
URL:https://www.bcss.org/event/cranbrook-family-support-group-3/2027-02-23/
LOCATION:Cranbrook District Teachers Association Office\, #304 – 105 – 9th Avenue South\, Cranbrook\, BC\, V1C 2M1\, Canada
CATEGORIES:Family Support Group
ORGANIZER;CN="Bonnie Spence-Vinge":MAILTO:intmanager@bcss.org
END:VEVENT
END:VCALENDAR