BEGIN:VCALENDAR
VERSION:2.0
PRODID:-//BC Schizophrenia Society - ECPv6.15.20//NONSGML v1.0//EN
CALSCALE:GREGORIAN
METHOD:PUBLISH
X-WR-CALNAME:BC Schizophrenia Society
X-ORIGINAL-URL:https://www.bcss.org
X-WR-CALDESC:Events for BC Schizophrenia Society
REFRESH-INTERVAL;VALUE=DURATION:PT1H
X-Robots-Tag:noindex
X-PUBLISHED-TTL:PT1H
BEGIN:VTIMEZONE
TZID:America/Vancouver
BEGIN:DAYLIGHT
TZOFFSETFROM:-0800
TZOFFSETTO:-0700
TZNAME:PDT
DTSTART:20250309T100000
END:DAYLIGHT
BEGIN:STANDARD
TZOFFSETFROM:-0700
TZOFFSETTO:-0800
TZNAME:PST
DTSTART:20251102T090000
END:STANDARD
BEGIN:DAYLIGHT
TZOFFSETFROM:-0800
TZOFFSETTO:-0700
TZNAME:PDT
DTSTART:20260308T100000
END:DAYLIGHT
BEGIN:STANDARD
TZOFFSETFROM:-0700
TZOFFSETTO:-0800
TZNAME:PST
DTSTART:20261101T090000
END:STANDARD
BEGIN:DAYLIGHT
TZOFFSETFROM:-0800
TZOFFSETTO:-0700
TZNAME:PDT
DTSTART:20270314T100000
END:DAYLIGHT
BEGIN:STANDARD
TZOFFSETFROM:-0700
TZOFFSETTO:-0800
TZNAME:PST
DTSTART:20271107T090000
END:STANDARD
END:VTIMEZONE
BEGIN:VEVENT
DTSTART;TZID=America/Vancouver:20260429T101500
DTEND;TZID=America/Vancouver:20260429T114500
DTSTAMP:20260423T061248
CREATED:20260421T234042Z
LAST-MODIFIED:20260421T234042Z
UID:10013698-1777457700-1777463100@www.bcss.org
SUMMARY:Vancouver Island Family Support Group
DESCRIPTION:Do you have a friend or family member living with mental illness? – You are not alone \nBCSS Vancouver Island region is offering Family Support Groups for family members and close friends who are supporting a loved one with a severe and persistent mental illness. \nOur Family Support Groups provide a safe\, supportive\, and confidential space where family members and friends can share experiences\, ask questions\, and connect with others who understand what it’s like to support a loved one living with mental illness. Groups are facilitated by trained BCSS educators and offer guidance\, emotional support\, and valuable resources to help families navigate their journeys. \nFamily Support Group – In Person \n\nDates: Wed\, April 29 and Fri\, May 29\nTime: 10:15 – 11:45 AM PST\nLocation: Courtenay Library\nFor more information or to join this family support group\, please contact Michelle Gallant at northvi@bcss.org or 250-937-0782
URL:https://www.bcss.org/event/vancouver-island-family-support-group/2026-04-29/
LOCATION:Courteney Library\, 300 6th St\, Courtenay\, BC\, V9N 9V9\, Canada
CATEGORIES:Family Support Group
ORGANIZER;CN="Michelle Gallant":MAILTO:northvi@bcss.org
END:VEVENT
BEGIN:VEVENT
DTSTART;TZID=America/Vancouver:20260529T101500
DTEND;TZID=America/Vancouver:20260529T114500
DTSTAMP:20260423T061248
CREATED:20260421T234042Z
LAST-MODIFIED:20260421T234042Z
UID:10013699-1780049700-1780055100@www.bcss.org
SUMMARY:Vancouver Island Family Support Group
DESCRIPTION:Do you have a friend or family member living with mental illness? – You are not alone \nBCSS Vancouver Island region is offering Family Support Groups for family members and close friends who are supporting a loved one with a severe and persistent mental illness. \nOur Family Support Groups provide a safe\, supportive\, and confidential space where family members and friends can share experiences\, ask questions\, and connect with others who understand what it’s like to support a loved one living with mental illness. Groups are facilitated by trained BCSS educators and offer guidance\, emotional support\, and valuable resources to help families navigate their journeys. \nFamily Support Group – In Person \n\nDates: Wed\, April 29 and Fri\, May 29\nTime: 10:15 – 11:45 AM PST\nLocation: Courtenay Library\nFor more information or to join this family support group\, please contact Michelle Gallant at northvi@bcss.org or 250-937-0782
URL:https://www.bcss.org/event/vancouver-island-family-support-group/2026-05-29/
LOCATION:Courteney Library\, 300 6th St\, Courtenay\, BC\, V9N 9V9\, Canada
CATEGORIES:Family Support Group
ORGANIZER;CN="Michelle Gallant":MAILTO:northvi@bcss.org
END:VEVENT
END:VCALENDAR