BEGIN:VCALENDAR
VERSION:2.0
PRODID:-//BC Schizophrenia Society - ECPv6.15.9//NONSGML v1.0//EN
CALSCALE:GREGORIAN
METHOD:PUBLISH
X-WR-CALNAME:BC Schizophrenia Society
X-ORIGINAL-URL:https://www.bcss.org
X-WR-CALDESC:Events for BC Schizophrenia Society
REFRESH-INTERVAL;VALUE=DURATION:PT1H
X-Robots-Tag:noindex
X-PUBLISHED-TTL:PT1H
BEGIN:VTIMEZONE
TZID:UTC
BEGIN:STANDARD
TZOFFSETFROM:+0000
TZOFFSETTO:+0000
TZNAME:UTC
DTSTART:20200101T000000
END:STANDARD
END:VTIMEZONE
BEGIN:VEVENT
DTSTART;TZID=UTC:20211211T130000
DTEND;TZID=UTC:20211211T160000
DTSTAMP:20260420T143238
CREATED:20171216T072109Z
LAST-MODIFIED:20220205T062434Z
UID:10007552-1639227600-1639238400@www.bcss.org
SUMMARY:Richmond Pathways: Chinese Family Support Group – 2nd Saturdays
DESCRIPTION:Chinese language family mental health / mental illness support group.\nAs scheduled (visit website for calendar) @ Caring Place Room 350 or 345\, 7000 Minoru Blvd\, Richmond Info: Bessie Wang 604-276-834 ext. 12 \nwww.pathwaysclubhouse.com
URL:https://www.bcss.org/event/richmond-pathways-chinese-family-support-group-2nd-saturdays/2021-12-11/
LOCATION:Caring Place – Room 350 or 345\, 7000 Minoru Blvd\, Richmond\, BC
GEO:49.1617739;-123.1398259
X-APPLE-STRUCTURED-LOCATION;VALUE=URI;X-ADDRESS=Caring Place – Room 350 or 345 7000 Minoru Blvd Richmond BC;X-APPLE-RADIUS=500;X-TITLE=7000 Minoru Blvd:geo:-123.1398259,49.1617739
END:VEVENT
END:VCALENDAR