BEGIN:VCALENDAR
VERSION:2.0
PRODID:-//BC Schizophrenia Society - ECPv6.15.20//NONSGML v1.0//EN
CALSCALE:GREGORIAN
METHOD:PUBLISH
X-WR-CALNAME:BC Schizophrenia Society
X-ORIGINAL-URL:https://www.bcss.org
X-WR-CALDESC:Events for BC Schizophrenia Society
REFRESH-INTERVAL;VALUE=DURATION:PT1H
X-Robots-Tag:noindex
X-PUBLISHED-TTL:PT1H
BEGIN:VTIMEZONE
TZID:UTC
BEGIN:STANDARD
TZOFFSETFROM:+0000
TZOFFSETTO:+0000
TZNAME:UTC
DTSTART:20190101T000000
END:STANDARD
END:VTIMEZONE
BEGIN:VEVENT
DTSTART;TZID=UTC:20200604T180000
DTEND;TZID=UTC:20200604T200000
DTSTAMP:20260425T205335
CREATED:20200206T065001Z
LAST-MODIFIED:20200318T041646Z
UID:10008310-1591293600-1591300800@www.bcss.org
SUMMARY:Provincial BCSS: Spring 2020 Wills & Estate Planning Seminar [POSTPONED]
DESCRIPTION:BC Schizophrenia Society’s Wills & Estate Planning Seminar \nFeaturing lawyers from Solus Trust Company Ltd. \nSome of the topics covered by the seminar include: \n\nWills & Estate Planning\nDiscretionary Trusts\nNon-discretionary Trusts\n\nFor individuals who are making estate arrangements to care for a family member living with mental illness. \n*** Space is limited\, register today.*** \nThursday\, June 4\, 2020\n6:00 pm – 8:00 pm \n*** Due to the current situation\, this seminar is postponed until further notice. *** \nVancouver Public Library / Library Square Conference Centre\nPeter Kaye Room\, Lower Level\n350 West Georgia Street\nVancouver\, BC \nCost: FREE \nFor more information and to register\, contact Cynthia at 1-888-888-0029 or email philanthropy@bcss.org \n  \nNote: \n\n\n\n\nSolus Trust Company Limited is a privately owned\, non-deposit taking\, independent trust company.  We are not owned by nor have any affiliation with any other financial institution like a bank\, credit union or investment firm.  We are dedicated to offering personalized fiduciary services in British Columbia.  Our independent\, unbiased approach eliminates any inherent conflicts of interest which other trust companies may have when offering their own services in combination with the financial services of their affiliates. \n\n\n\n\n\n\n\n\nFounded in 2005\, Solus Trust Company has grown to become one of British Columbia’s largest trust companies.  Independence\, decades of in-depth technical experience\, local presence and personalized services make Solus Trust unique among corporate trustees.  Solus means solely\, or only\, in Latin\, and Solus Trust provides solely trust and estate related services\, including acting as Power of Attorney (POA).
URL:https://www.bcss.org/event/provincial-bcss-spring-2020-wills-estate-planning-seminar/
LOCATION:Vancouver Public Library / Library Square Conference Centre\, 350 West Georgia Street\, Vancouver\, BC\, V6B 6B1\, Canada
CATEGORIES:Other,Wills & Estate Planning Seminar
ATTACH;FMTTYPE=image/jpeg:https://www.bcss.org/wp-content/uploads/2019/08/Wills-Estate-Planning-Seminar-September-2019.jpg
ORGANIZER;CN="Cynthia Loveman":MAILTO:philanthropy@bcss.org
END:VEVENT
END:VCALENDAR