BEGIN:VCALENDAR
VERSION:2.0
PRODID:-//BC Schizophrenia Society - ECPv6.15.20//NONSGML v1.0//EN
CALSCALE:GREGORIAN
METHOD:PUBLISH
X-ORIGINAL-URL:https://www.bcss.org
X-WR-CALDESC:Events for BC Schizophrenia Society
REFRESH-INTERVAL;VALUE=DURATION:PT1H
X-Robots-Tag:noindex
X-PUBLISHED-TTL:PT1H
BEGIN:VTIMEZONE
TZID:America/Vancouver
BEGIN:DAYLIGHT
TZOFFSETFROM:-0800
TZOFFSETTO:-0700
TZNAME:PDT
DTSTART:20190310T100000
END:DAYLIGHT
BEGIN:STANDARD
TZOFFSETFROM:-0700
TZOFFSETTO:-0800
TZNAME:PST
DTSTART:20191103T090000
END:STANDARD
BEGIN:DAYLIGHT
TZOFFSETFROM:-0800
TZOFFSETTO:-0700
TZNAME:PDT
DTSTART:20200308T100000
END:DAYLIGHT
BEGIN:STANDARD
TZOFFSETFROM:-0700
TZOFFSETTO:-0800
TZNAME:PST
DTSTART:20201101T090000
END:STANDARD
BEGIN:DAYLIGHT
TZOFFSETFROM:-0800
TZOFFSETTO:-0700
TZNAME:PDT
DTSTART:20210314T100000
END:DAYLIGHT
BEGIN:STANDARD
TZOFFSETFROM:-0700
TZOFFSETTO:-0800
TZNAME:PST
DTSTART:20211107T090000
END:STANDARD
BEGIN:DAYLIGHT
TZOFFSETFROM:-0800
TZOFFSETTO:-0700
TZNAME:PDT
DTSTART:20220313T100000
END:DAYLIGHT
BEGIN:STANDARD
TZOFFSETFROM:-0700
TZOFFSETTO:-0800
TZNAME:PST
DTSTART:20221106T090000
END:STANDARD
BEGIN:DAYLIGHT
TZOFFSETFROM:-0800
TZOFFSETTO:-0700
TZNAME:PDT
DTSTART:20230312T100000
END:DAYLIGHT
BEGIN:STANDARD
TZOFFSETFROM:-0700
TZOFFSETTO:-0800
TZNAME:PST
DTSTART:20231105T090000
END:STANDARD
END:VTIMEZONE
BEGIN:VTIMEZONE
TZID:UTC
BEGIN:STANDARD
TZOFFSETFROM:+0000
TZOFFSETTO:+0000
TZNAME:UTC
DTSTART:20190101T000000
END:STANDARD
END:VTIMEZONE
BEGIN:VEVENT
DTSTART;TZID=America/Vancouver:20220601T130000
DTEND;TZID=America/Vancouver:20220601T130000
DTSTAMP:20260423T013214
CREATED:20200124T104557Z
LAST-MODIFIED:20220706T200601Z
UID:10008480-1654088400-1654088400@www.bcss.org
SUMMARY:BCSS Quesnel: Families in Residence - Saturdays
DESCRIPTION:FAMILIES in Residence\nDrop by every Saturday between 1 – 3 pm\nGR Baker Memorial Hospital\, QUESST Unit \n  \nFor more information or to register contact: \nGail Rutledge\n250-925-4145\nquesnel@bcss.org
URL:https://www.bcss.org/event/quesnel-bcss-families-in-residence-saturdays-2022-07-30/
LOCATION:GR Baker Memorial Hospital\, 543 Front Street\, Quesnel\, BC\, Canada
CATEGORIES:Family Support Group
ORGANIZER;CN="Gail Rutledge":MAILTO:quesnel@bcss.org
END:VEVENT
BEGIN:VEVENT
DTSTART;TZID=UTC:20200614T083000
DTEND;TZID=UTC:20200614T163000
DTSTAMP:20260423T013214
CREATED:20200205T070319Z
LAST-MODIFIED:20200205T070319Z
UID:10008285-1592123400-1592152200@www.bcss.org
SUMMARY:Quesnel BCSS: MHCC Mental Health First Aid Canada
DESCRIPTION:BECOME A MENTAL HEALTH FIRST AIDER \nMental Health First Aid is offered to someone with an emerging mental health problem or in a mental health crisis until appropriate treatment is found or the situation is resolved. \nRegister now to become certified in Mental health First Aid: FREE & NO Test! \nBasic introduction to substance use\, mood\, anxiety\, trauma-induced and psychotic disorders. Mental Health First Aid for overdose\, suicide panic attacks\, acute stress reaction\, and psychosis. \nWhen:     Saturday\, June 13 & Sunday\, June 14\n8:30 AM – 4:30 PM each day \nWhere:    Grace Young Centre \nContact:  Gail Rutledge at 250-925-4145 or email quesnel@bcss.org \n 
URL:https://www.bcss.org/event/quesnel-bcss-mhcc-mental-health-first-aid-canada/2020-06-14/
LOCATION:Grace Young Activity Centre\, 395 Elliott Street\, Quesnel\, BC\, Canada
ORGANIZER;CN="Gail Rutledge":MAILTO:quesnel@bcss.org
END:VEVENT
BEGIN:VEVENT
DTSTART;TZID=America/Vancouver:20200125T140000
DTEND;TZID=America/Vancouver:20200125T153000
DTSTAMP:20260423T013214
CREATED:20200124T102925Z
LAST-MODIFIED:20220706T200316Z
UID:10008205-1579960800-1579966200@www.bcss.org
SUMMARY:BCSS Quesnel: Family Support Group - Last Saturdays
DESCRIPTION:Families support group for ALL family members affected by mental illness. \nLast Saturday of the Month\n2:00 p.m. – 3:30 p.m. \nGrace Young Centre\n395 Elliott Street\nQuesnel\, BC \nFor details and information contact:\nGail Rutledge\n250-925-4145\nquesnel@bcss.org
URL:https://www.bcss.org/event/quesnel-bcss-family-support-group-last-saturdays/
LOCATION:Grace Young Activity Centre\, 395 Elliott Street\, Quesnel\, BC\, Canada
CATEGORIES:Family Support Group
ORGANIZER;CN="Gail Rutledge":MAILTO:quesnel@bcss.org
END:VEVENT
BEGIN:VEVENT
DTSTART;TZID=America/Vancouver:20200104T130000
DTEND;TZID=America/Vancouver:20200104T150000
DTSTAMP:20260423T013214
CREATED:20200124T104557Z
LAST-MODIFIED:20220706T200135Z
UID:10008206-1578142800-1578150000@www.bcss.org
SUMMARY:BCSS Quesnel: Families in Residence - Saturdays
DESCRIPTION:FAMILIES in Residence\nDrop by every Saturday between 1 – 3 pm\nGR Baker Memorial Hospital\, QUESST Unit \n  \nFor more information or to register contact: \nGail Rutledge\n250-925-4145\nquesnel@bcss.org
URL:https://www.bcss.org/event/quesnel-bcss-families-in-residence-saturdays/
LOCATION:GR Baker Memorial Hospital\, 543 Front Street\, Quesnel\, BC\, Canada
CATEGORIES:Family Support Group
ORGANIZER;CN="Gail Rutledge":MAILTO:quesnel@bcss.org
END:VEVENT
END:VCALENDAR