BEGIN:VCALENDAR
VERSION:2.0
PRODID:-//BC Schizophrenia Society - ECPv6.15.9//NONSGML v1.0//EN
CALSCALE:GREGORIAN
METHOD:PUBLISH
X-WR-CALNAME:BC Schizophrenia Society
X-ORIGINAL-URL:https://www.bcss.org
X-WR-CALDESC:Events for BC Schizophrenia Society
REFRESH-INTERVAL;VALUE=DURATION:PT1H
X-Robots-Tag:noindex
X-PUBLISHED-TTL:PT1H
BEGIN:VTIMEZONE
TZID:America/Denver
BEGIN:DAYLIGHT
TZOFFSETFROM:-0700
TZOFFSETTO:-0600
TZNAME:MDT
DTSTART:20200308T090000
END:DAYLIGHT
BEGIN:STANDARD
TZOFFSETFROM:-0600
TZOFFSETTO:-0700
TZNAME:MST
DTSTART:20201101T080000
END:STANDARD
BEGIN:DAYLIGHT
TZOFFSETFROM:-0700
TZOFFSETTO:-0600
TZNAME:MDT
DTSTART:20210314T090000
END:DAYLIGHT
BEGIN:STANDARD
TZOFFSETFROM:-0600
TZOFFSETTO:-0700
TZNAME:MST
DTSTART:20211107T080000
END:STANDARD
BEGIN:DAYLIGHT
TZOFFSETFROM:-0700
TZOFFSETTO:-0600
TZNAME:MDT
DTSTART:20220313T090000
END:DAYLIGHT
BEGIN:STANDARD
TZOFFSETFROM:-0600
TZOFFSETTO:-0700
TZNAME:MST
DTSTART:20221106T080000
END:STANDARD
BEGIN:DAYLIGHT
TZOFFSETFROM:-0700
TZOFFSETTO:-0600
TZNAME:MDT
DTSTART:20230312T090000
END:DAYLIGHT
BEGIN:STANDARD
TZOFFSETFROM:-0600
TZOFFSETTO:-0700
TZNAME:MST
DTSTART:20231105T080000
END:STANDARD
END:VTIMEZONE
BEGIN:VTIMEZONE
TZID:UTC
BEGIN:STANDARD
TZOFFSETFROM:+0000
TZOFFSETTO:+0000
TZNAME:UTC
DTSTART:20180101T000000
END:STANDARD
END:VTIMEZONE
BEGIN:VEVENT
DTSTART;TZID=America/Denver:20220317T180000
DTEND;TZID=America/Denver:20220317T200000
DTSTAMP:20260421T011254
CREATED:20220118T063336Z
LAST-MODIFIED:20220118T063336Z
UID:10008755-1647540000-1647547200@www.bcss.org
SUMMARY:Interior Region (East and West Kootenay) BCSS: Strengthening Families Together
DESCRIPTION:  \nDo you have a relative or friend with a severe and persistent mental illness in? Strengthening Families Together is a 10-session psychosocial education program for family members and friends of individuals with severe and persistent mental illnesses. It aims to provide information about mental illness — what it is\, what supports are available to individuals and families\, and how to find the resources they need within BC’s Mental Health System. \nTo register\, contact: \nMelissa Michaud \n250-505-2976 | westkootenay@bcss.org \nBob Rennebohm \n250-409-5025 | eastkootenay@bcss.org
URL:https://www.bcss.org/event/interior-region-east-and-west-kootenay-bcss-strengthening-families-together/2022-03-17/
CATEGORIES:Strengthening Families Together
ORGANIZER;CN="Melissa Michaud":MAILTO:westkootenay@bcss.org
END:VEVENT
BEGIN:VEVENT
DTSTART;TZID=America/Denver:20211027T180000
DTEND;TZID=America/Denver:20211027T184500
DTSTAMP:20260421T011254
CREATED:20211014T064023Z
LAST-MODIFIED:20211014T064459Z
UID:10008652-1635357600-1635360300@www.bcss.org
SUMMARY:BCSS Interior: Interior Health Family Inclusion Policy: A Learning Session (Workshop)
DESCRIPTION:
URL:https://www.bcss.org/event/bcss-interior-interior-health-family-inclusion-policy-a-learning-session-workshop/
LOCATION:BCSS Interior – Virtual\, Kamloops\, BC
ORGANIZER;CN="Melissa Michaud":MAILTO:westkootenay@bcss.org
END:VEVENT
BEGIN:VEVENT
DTSTART;TZID=UTC:20191210T180000
DTEND;TZID=UTC:20191210T200000
DTSTAMP:20260421T011254
CREATED:20171216T053100Z
LAST-MODIFIED:20200128T045232Z
UID:10006850-1576000800-1576008000@www.bcss.org
SUMMARY:Nelson BCSS: Family Support Group – 2nd Tuesdays
DESCRIPTION:BEHIND THE SMILE – A SILENT SCREAM \nPeople may have worked with you for years. Neighbours say\, “Hi\, how are you?” Smiling\, you lie\, “Fine” — while inwardly — a silent scream. You may have sat beside someone in church for hundreds of Sundays\, and almost no one knew of the turmoil behind your mask. A few knew…and a few others didn’t want to know. Your friends didn’t understand\, and you didn’t want to bother them. The family was falling apart. No one talked about it. Everyone ignored the “elephant in the living room”. \nWhen a family member has a mental illness\, you often don’t know where to turn. \nA friendly family support group for family members affected by mental illness has been meeting in Nelson since 1989. Different people come and go over the years as they require help. We are here for each other. We understand. We will listen…cry with you…or laugh\, and share what has helped us to cope. We also share information on symptoms you may observe\, medical treatment and other services available. \nDate: second Tuesday of each month\nTime: 6:00 – 8:00 pm\nLocation: Nelson Christian Community School\, 810-10th Street\, Nelson\, BC. \nFor more information call 250-505-2976 or email nelson@bcss.org
URL:https://www.bcss.org/event/nelson-bcss-family-support-group-2nd-tuesdays/2019-12-10/
LOCATION:Nelson Christian Community School\, 810-10th Street\, Nelson\, BC
CATEGORIES:Family Support Group
ORGANIZER;CN="Melissa Michaud":MAILTO:westkootenay@bcss.org
GEO:49.505999;-117.268795
X-APPLE-STRUCTURED-LOCATION;VALUE=URI;X-ADDRESS=Nelson Christian Community School 810-10th Street Nelson BC;X-APPLE-RADIUS=500;X-TITLE=810-10th Street:geo:-117.268795,49.505999
END:VEVENT
END:VCALENDAR