BEGIN:VCALENDAR
VERSION:2.0
PRODID:-//BC Schizophrenia Society - ECPv6.15.9//NONSGML v1.0//EN
CALSCALE:GREGORIAN
METHOD:PUBLISH
X-WR-CALNAME:BC Schizophrenia Society
X-ORIGINAL-URL:https://www.bcss.org
X-WR-CALDESC:Events for BC Schizophrenia Society
REFRESH-INTERVAL;VALUE=DURATION:PT1H
X-Robots-Tag:noindex
X-PUBLISHED-TTL:PT1H
BEGIN:VTIMEZONE
TZID:America/Vancouver
BEGIN:DAYLIGHT
TZOFFSETFROM:-0800
TZOFFSETTO:-0700
TZNAME:PDT
DTSTART:20230312T100000
END:DAYLIGHT
BEGIN:STANDARD
TZOFFSETFROM:-0700
TZOFFSETTO:-0800
TZNAME:PST
DTSTART:20231105T090000
END:STANDARD
BEGIN:DAYLIGHT
TZOFFSETFROM:-0800
TZOFFSETTO:-0700
TZNAME:PDT
DTSTART:20240310T100000
END:DAYLIGHT
BEGIN:STANDARD
TZOFFSETFROM:-0700
TZOFFSETTO:-0800
TZNAME:PST
DTSTART:20241103T090000
END:STANDARD
BEGIN:DAYLIGHT
TZOFFSETFROM:-0800
TZOFFSETTO:-0700
TZNAME:PDT
DTSTART:20250309T100000
END:DAYLIGHT
BEGIN:STANDARD
TZOFFSETFROM:-0700
TZOFFSETTO:-0800
TZNAME:PST
DTSTART:20251102T090000
END:STANDARD
BEGIN:DAYLIGHT
TZOFFSETFROM:-0800
TZOFFSETTO:-0700
TZNAME:PDT
DTSTART:20260308T100000
END:DAYLIGHT
BEGIN:STANDARD
TZOFFSETFROM:-0700
TZOFFSETTO:-0800
TZNAME:PST
DTSTART:20261101T090000
END:STANDARD
BEGIN:DAYLIGHT
TZOFFSETFROM:-0800
TZOFFSETTO:-0700
TZNAME:PDT
DTSTART:20270314T100000
END:DAYLIGHT
BEGIN:STANDARD
TZOFFSETFROM:-0700
TZOFFSETTO:-0800
TZNAME:PST
DTSTART:20271107T090000
END:STANDARD
END:VTIMEZONE
BEGIN:VTIMEZONE
TZID:America/Denver
BEGIN:DAYLIGHT
TZOFFSETFROM:-0700
TZOFFSETTO:-0600
TZNAME:MDT
DTSTART:20230312T090000
END:DAYLIGHT
BEGIN:STANDARD
TZOFFSETFROM:-0600
TZOFFSETTO:-0700
TZNAME:MST
DTSTART:20231105T080000
END:STANDARD
BEGIN:DAYLIGHT
TZOFFSETFROM:-0700
TZOFFSETTO:-0600
TZNAME:MDT
DTSTART:20240310T090000
END:DAYLIGHT
BEGIN:STANDARD
TZOFFSETFROM:-0600
TZOFFSETTO:-0700
TZNAME:MST
DTSTART:20241103T080000
END:STANDARD
BEGIN:DAYLIGHT
TZOFFSETFROM:-0700
TZOFFSETTO:-0600
TZNAME:MDT
DTSTART:20250309T090000
END:DAYLIGHT
BEGIN:STANDARD
TZOFFSETFROM:-0600
TZOFFSETTO:-0700
TZNAME:MST
DTSTART:20251102T080000
END:STANDARD
END:VTIMEZONE
BEGIN:VEVENT
DTSTART;TZID=America/Vancouver:20260410T101500
DTEND;TZID=America/Vancouver:20260410T114500
DTSTAMP:20260420T234041
CREATED:20260324T220826Z
LAST-MODIFIED:20260325T174219Z
UID:10013596-1775816100-1775821500@www.bcss.org
SUMMARY:North Vancouver Island Family Support Group
DESCRIPTION:Do you have a friend or family member living with mental illness? – You are not alone \nBCSS North Vancouver Island is offering Family Support Groups for family members and close friends who are supporting a loved one with a severe and persistent mental illness. These groups are open to anyone living in the North Vancouver Island region\, including Alert Bay\, Campbell River\, Comox\, Cortes Island\, Courtenay\, Cumberland\, Denman Island\, Gold River\, Hornby Island\, Kyuquot\, Port Alice\, Port Hardy\, Port McNeill\, Sointula\, Tahsis\, and surrounding communities. \nOur Family Support Groups provide a safe\, supportive\, and confidential space where family members and friends can share experiences\, ask questions\, and connect with others who understand what it’s like to support a loved one living with mental illness. Groups are facilitated by trained BCSS educators and offer guidance\, emotional support\, and valuable resources to help families navigate their journeys. \nFamily Support Group – In Person \n\nDates: Every 2nd Friday of the month\nTime: 10:15 – 11:45 AM PST\nLocation: Downtown Courtenay\nFor more information or to join this family support group\, please contact Michelle Gallant at northvi@bcss.org or 250-937-0782\n\n 
URL:https://www.bcss.org/event/north-vancouver-island-family-support-group-2/2026-04-10/
LOCATION:Downtown Courtenay
ORGANIZER;CN="Michelle Gallant":MAILTO:northvi@bcss.org
END:VEVENT
BEGIN:VEVENT
DTSTART;TZID=America/Vancouver:20240523T190000
DTEND;TZID=America/Vancouver:20240523T203000
DTSTAMP:20260420T234041
CREATED:20240516T202252Z
LAST-MODIFIED:20240516T202252Z
UID:10011093-1716490800-1716496200@www.bcss.org
SUMMARY:Vancouver Island Virtual Family Support Group
DESCRIPTION:Do you have a friend or family member living with mental illness? – You are not alone  \nBCSS Vancouver Island Region is running virtual Family Support Groups for family members and close friends who are supporting a loved one with a severe and persistent mental illness.  \nBCSS Family Support Groups offer a safe and supportive environment for family and friends to share\, ask questions\, and connect with others who are also supporting a loved one with mental illness or substance use disorder. Family Support Groups are led by trained facilitators or educators\, and they provide support and resources to family members and caregivers of individuals with a severe and persistent mental illness.   \nFamily Support Group – Virtual \n\nTime: 7:00 pm – 8:30 pm\nFor more information or to join this family support group\, please contact Michelle Gallant at 250-937-0782 or northvi@bcss.org
URL:https://www.bcss.org/event/vancouver-island-virtual-family-support-group-3/
CATEGORIES:Family Support Group
ORGANIZER;CN="Michelle Gallant":MAILTO:northvi@bcss.org
END:VEVENT
BEGIN:VEVENT
DTSTART;TZID=America/Vancouver:20240328T190000
DTEND;TZID=America/Vancouver:20240328T203000
DTSTAMP:20260420T234041
CREATED:20240417T044052Z
LAST-MODIFIED:20240417T044052Z
UID:10008813-1711652400-1711657800@www.bcss.org
SUMMARY:BCSS North Vancouver Island Family Support Group - Second and Fourth Thursdays
DESCRIPTION:Family Support Group in the North Vancouver Island Region is offered twice every month (second and fourth Thursday of the month) from 7:00 – 8:30 pm. \nRegister today! \nContact: \nMichelle Gallant – Regional Educator\, North Vancouver Island \n250-937-0782\nnorthvi@bcss.org
URL:https://www.bcss.org/event/bcss-north-vancouver-island-family-support-group-second-and-fourth-thursdays/2024-03-28/
CATEGORIES:Family Support Group
ORGANIZER;CN="Michelle Gallant":MAILTO:northvi@bcss.org
END:VEVENT
BEGIN:VEVENT
DTSTART;TZID=America/Denver:20240326T190000
DTEND;TZID=America/Denver:20240326T203000
DTSTAMP:20260420T234041
CREATED:20220112T034006Z
LAST-MODIFIED:20221101T190447Z
UID:10008707-1711479600-1711485000@www.bcss.org
SUMMARY:BCSS Sibling Support Group
DESCRIPTION:Do you have a sibling struggling with mental illness? You are not alone. BCSS’ Sibling Support Group is here to help you make sense of what your sibling is going through\, better relate to them\, and provide a stable system of care and support to them. \nThe sessions may cover various topics\, including: \n\nsupport and empathy from other siblings\ntechniques for improved communications\nhow to access community resources\, mental health services\, and after-hours support\n\nThe support group is held virtually on the last Tuesday of the month\, from 7:00-8:30 PST. \nTo register\, contact: \nHeather \n250-691-1132 | lakesdistrict@bcss.org \nSibling Support Group info.pdf
URL:https://www.bcss.org/event/bcss-sibling-support-group/2024-03-26/
LOCATION:Online\, Canada
CATEGORIES:Family Support Group,Sibling Support Group
ORGANIZER;CN="Heather Megchelsen":MAILTO:lakesdistrict@bcss.org
END:VEVENT
END:VCALENDAR