BEGIN:VCALENDAR
VERSION:2.0
PRODID:-//BC Schizophrenia Society - ECPv6.15.9//NONSGML v1.0//EN
CALSCALE:GREGORIAN
METHOD:PUBLISH
X-ORIGINAL-URL:https://www.bcss.org
X-WR-CALDESC:Events for BC Schizophrenia Society
REFRESH-INTERVAL;VALUE=DURATION:PT1H
X-Robots-Tag:noindex
X-PUBLISHED-TTL:PT1H
BEGIN:VTIMEZONE
TZID:America/Vancouver
BEGIN:DAYLIGHT
TZOFFSETFROM:-0800
TZOFFSETTO:-0700
TZNAME:PDT
DTSTART:20210314T100000
END:DAYLIGHT
BEGIN:STANDARD
TZOFFSETFROM:-0700
TZOFFSETTO:-0800
TZNAME:PST
DTSTART:20211107T090000
END:STANDARD
BEGIN:DAYLIGHT
TZOFFSETFROM:-0800
TZOFFSETTO:-0700
TZNAME:PDT
DTSTART:20220313T100000
END:DAYLIGHT
BEGIN:STANDARD
TZOFFSETFROM:-0700
TZOFFSETTO:-0800
TZNAME:PST
DTSTART:20221106T090000
END:STANDARD
BEGIN:DAYLIGHT
TZOFFSETFROM:-0800
TZOFFSETTO:-0700
TZNAME:PDT
DTSTART:20230312T100000
END:DAYLIGHT
BEGIN:STANDARD
TZOFFSETFROM:-0700
TZOFFSETTO:-0800
TZNAME:PST
DTSTART:20231105T090000
END:STANDARD
END:VTIMEZONE
BEGIN:VTIMEZONE
TZID:UTC
BEGIN:STANDARD
TZOFFSETFROM:+0000
TZOFFSETTO:+0000
TZNAME:UTC
DTSTART:20190101T000000
END:STANDARD
END:VTIMEZONE
BEGIN:VEVENT
DTSTART;TZID=America/Vancouver:20220516T190000
DTEND;TZID=America/Vancouver:20220516T203000
DTSTAMP:20260420T232202
CREATED:20220323T182019Z
LAST-MODIFIED:20220323T182019Z
UID:10007679-1652727600-1652733000@www.bcss.org
SUMMARY:BCSS Northwest Region: Family Support Group
DESCRIPTION:These Zoom Family Support Group welcome families from Terrace\, Kitimat and Nass Valley. \nContact: Olga Kaliadina; terrace@bcss.org
URL:https://www.bcss.org/event/bcss-northwest-region-family-support-group/2022-05-16/
CATEGORIES:Family Support Group
ORGANIZER;CN="Olga Kaliadina":MAILTO:terrace@bcss.org
END:VEVENT
BEGIN:VEVENT
DTSTART;TZID=UTC:20200930T163000
DTEND;TZID=UTC:20200930T180000
DTSTAMP:20260420T232202
CREATED:20190327T052825Z
LAST-MODIFIED:20201008T011529Z
UID:10004813-1601483400-1601488800@www.bcss.org
SUMMARY:Terrace BCSS: Family Support Group - Last Wednesday
DESCRIPTION:Terrace Family Support Group\nLast Wednesday of every month (excluding July\, Aug\, & Dec)\n4:30 pm – 6:00 pm \nSuite 210\, 4546 Park Avenue\n(Above Trigo’s Shoe Store)\nTerrace\, BC \nNoreen\n250-635-8206\nterrace@bcss.org
URL:https://www.bcss.org/event/terrace-family-support/2020-09-30/
LOCATION:BCSS Terrace\, Suite 210\, 4546 Park Avenue\, Terrace\, British Columbia\, Canada
CATEGORIES:Family Support Group
ORGANIZER;CN="Olga Kaliadina":MAILTO:terrace@bcss.org
END:VEVENT
BEGIN:VEVENT
DTSTART;TZID=UTC:20200909T163000
DTEND;TZID=UTC:20200909T180000
DTSTAMP:20260420T232202
CREATED:20190927T061234Z
LAST-MODIFIED:20201015T055952Z
UID:10008069-1599669000-1599674400@www.bcss.org
SUMMARY:Prince Rupert BCSS: Family Support Group - 2nd Wednesday
DESCRIPTION:Second Wednesday of every month (excluding July\, Aug\, & Dec)\n4:30pm in the meeting room of the Prince Rupert Library \nPlease note\, an RSVP is required by noon on the second Wednesday of the month.\nFor more information\, please contact Noreen 250-635-8206 terrace@bcss.org
URL:https://www.bcss.org/event/prince-rupert-family-support-group/2020-09-09/
LOCATION:Prince Rupert Library\, 101 6 Avenue West\, Prince Rupert\, British Columbia\, V8J 1Y9\, Canada
CATEGORIES:Family Support Group
ORGANIZER;CN="Olga Kaliadina":MAILTO:terrace@bcss.org
END:VEVENT
BEGIN:VEVENT
DTSTART;TZID=UTC:20200609T183000
DTEND;TZID=UTC:20200609T210000
DTSTAMP:20260420T232202
CREATED:20200123T082706Z
LAST-MODIFIED:20200123T082706Z
UID:10008189-1591727400-1591736400@www.bcss.org
SUMMARY:Terrace BCSS: Strengthening Families Together (April 2020)
DESCRIPTION:Strengthening Families Together\nFREE Education Course (10 sessions)\nTopics covered include: \n\nWhat is Mental Illness?\nThe Brain & the Causes of Mental Illness\nSchizophrenia\nMood & Anxiety Disorders\nMental Illness\, Alcohol\, and Drug Use & Criminal Behaviour\nTreating Mental Illness\nLiving with Mental Illness\nCoping as a Family\nUnderstanding the Mental Health System\nAdvocacy & Developing a Support Network\n\n  \nThis course is scheduled to begin April 7\, 2020. \nTo register for the course and to receive details\, please contact:\nNoreen\n250-635-8206\nterrace@bcss.org \n 
URL:https://www.bcss.org/event/terrace-bcss-strengthening-families-together-april-2020/2020-06-09/
LOCATION:Terrace\, Terrace\, BC\, Canada
CATEGORIES:Strengthening Families Together
ORGANIZER;CN="Olga Kaliadina":MAILTO:terrace@bcss.org
END:VEVENT
BEGIN:VEVENT
DTSTART;TZID=UTC:20200219T130000
DTEND;TZID=UTC:20200219T163000
DTSTAMP:20260420T232202
CREATED:20200116T090645Z
LAST-MODIFIED:20200116T090645Z
UID:10005178-1582117200-1582129800@www.bcss.org
SUMMARY:Free SafeTALK Workshop – Suicide Alertness Training – in Terrace
DESCRIPTION:Learn four basic steps to recognize persons with thoughts of suicide and to connect them with suicide intervention services. This 3 ½ hour training can help you make a difference. \nWednesday\, February 19\, 2020\n1:00 pm – 4:30 pm \nAges 15+ \nRegistration required: 250-635-8206 \nRegistration deadline: February 12 \n \n  \n  \n 
URL:https://www.bcss.org/event/free-safetalk-workshop-suicide-alertness-training-in-terrace/
LOCATION:BCSS Terrace\, Suite 210\, 4546 Park Avenue\, Terrace\, British Columbia\, Canada
ORGANIZER;CN="Olga Kaliadina":MAILTO:terrace@bcss.org
END:VEVENT
END:VCALENDAR