BEGIN:VCALENDAR
VERSION:2.0
PRODID:-//BC Schizophrenia Society - ECPv6.15.9//NONSGML v1.0//EN
CALSCALE:GREGORIAN
METHOD:PUBLISH
X-WR-CALNAME:BC Schizophrenia Society
X-ORIGINAL-URL:https://www.bcss.org
X-WR-CALDESC:Events for BC Schizophrenia Society
REFRESH-INTERVAL;VALUE=DURATION:PT1H
X-Robots-Tag:noindex
X-PUBLISHED-TTL:PT1H
BEGIN:VTIMEZONE
TZID:America/Vancouver
BEGIN:DAYLIGHT
TZOFFSETFROM:-0800
TZOFFSETTO:-0700
TZNAME:PDT
DTSTART:20210314T100000
END:DAYLIGHT
BEGIN:STANDARD
TZOFFSETFROM:-0700
TZOFFSETTO:-0800
TZNAME:PST
DTSTART:20211107T090000
END:STANDARD
BEGIN:DAYLIGHT
TZOFFSETFROM:-0800
TZOFFSETTO:-0700
TZNAME:PDT
DTSTART:20220313T100000
END:DAYLIGHT
BEGIN:STANDARD
TZOFFSETFROM:-0700
TZOFFSETTO:-0800
TZNAME:PST
DTSTART:20221106T090000
END:STANDARD
BEGIN:DAYLIGHT
TZOFFSETFROM:-0800
TZOFFSETTO:-0700
TZNAME:PDT
DTSTART:20230312T100000
END:DAYLIGHT
BEGIN:STANDARD
TZOFFSETFROM:-0700
TZOFFSETTO:-0800
TZNAME:PST
DTSTART:20231105T090000
END:STANDARD
END:VTIMEZONE
BEGIN:VTIMEZONE
TZID:UTC
BEGIN:STANDARD
TZOFFSETFROM:+0000
TZOFFSETTO:+0000
TZNAME:UTC
DTSTART:20190101T000000
END:STANDARD
END:VTIMEZONE
BEGIN:VEVENT
DTSTART;TZID=America/Vancouver:20220627T180000
DTEND;TZID=America/Vancouver:20220627T200000
DTSTAMP:20260420T153314
CREATED:20171214T060918Z
LAST-MODIFIED:20220720T200817Z
UID:10007995-1656352800-1656360000@www.bcss.org
SUMMARY:Kamloops BCSS: Family Support Group – 4th Mondays
DESCRIPTION:BCSS Kamloops offers a monthly support group for family and friends of persons with a mental illness. \nDate: 4th Monday of the month\nTime: 6:00 – 8:00 p.m.\nLocation: Due to COVID-19\, all Family Support Group sessions will be conducted via Zoom until further notice. \nPre-registration is required to receive the Zoom link. \nFor more information please contact Rosanne Nelson at 250-571-6955 or thompsonnicola@bcss.org \n 
URL:https://www.bcss.org/event/kamloops-bcss-family-support-group-4th-mondays-2020-08-24/2022-06-27/
CATEGORIES:Family Support Group
ORGANIZER;CN="Rosanne Nelson":MAILTO:thompsonnicola@bcss.org
END:VEVENT
BEGIN:VEVENT
DTSTART;TZID=UTC:20220315T180000
DTEND;TZID=UTC:20220315T200000
DTSTAMP:20260420T153314
CREATED:20220118T062542Z
LAST-MODIFIED:20220118T062542Z
UID:10008747-1647367200-1647374400@www.bcss.org
SUMMARY:Interior Region (Thompson Nicola - Okanagan) BCSS: Strengthening Families Together
DESCRIPTION:Do you have a relative or friend with a severe and persistent mental illness? Our Regional Teams across the province are running Strengthening Families Together sessions starting this January. \nStrengthening Families Together is a 10-session psychosocial education program for family members and friends of individuals with severe and persistent mental illnesses. It aims to provide information about mental illness — what it is\, what supports are available to individuals and families\, and how to find the resources they need within BC’s Mental Health System. \n\nTo register\, contact: \nRosanne Nelson \n250-571-6955 \nthompsonnicola@bcss.org
URL:https://www.bcss.org/event/interior-region-thompson-nicola-okanagan-bcss-strengthening-families-together/2022-03-15/
CATEGORIES:Strengthening Families Together
ORGANIZER;CN="Rosanne Nelson":MAILTO:thompsonnicola@bcss.org
END:VEVENT
BEGIN:VEVENT
DTSTART;TZID=UTC:20210317T183000
DTEND;TZID=UTC:20210317T203000
DTSTAMP:20260420T153314
CREATED:20210116T064256Z
LAST-MODIFIED:20210116T064256Z
UID:10008608-1616005800-1616013000@www.bcss.org
SUMMARY:Kamloops BCSS: Strengthening Families Together (Zoom & Learn)
DESCRIPTION:Are you a family member\, caregiver or a friend caring for a loved one living with a mental illness? You are not alone! We are offering an online education course where you will learn about mental illness and how to support your loved living with a mental illness. \nCome on a journey with us as we explore many aspects of Mental Illness: Types of Mental Illness\, Contributing Factors\, Treatment\, Suicide Awareness\, Mental Health and Legal Systems\, Self-Care and more. Limit of 12 participants. Register now! \nREGISTER BY CONTACTING: \nRosanne Nelson\nkamloopseducator@bcss.org\n250-571-6955 \nWednesdays 6:30-8:30 pm \nJan 27 \nFeb 3\, 10\, 17\, 24 \nMarch 3\,10\,17 \n  \n 
URL:https://www.bcss.org/event/kamloops-bcss-strengthening-families-together-zoom-learn/2021-03-17/
LOCATION:BCSS Interior – Virtual\, Kamloops\, BC
CATEGORIES:Strengthening Families Together
ORGANIZER;CN="Rosanne Nelson":MAILTO:thompsonnicola@bcss.org
END:VEVENT
BEGIN:VEVENT
DTSTART;TZID=UTC:20200404T080000
DTEND;TZID=UTC:20200404T170000
DTSTAMP:20260420T153314
CREATED:20200123T043420Z
LAST-MODIFIED:20200123T043729Z
UID:10008125-1585987200-1586019600@www.bcss.org
SUMMARY:Kamloops BCSS: Strengthening Families Together (February 2020)
DESCRIPTION:Strengthening Families Together\nFREE Education Course (10 sessions)\nTopics covered include: \n\nWhat is Mental Illness?\nThe Brain & the Causes of Mental Illness\nSchizophrenia\nMood & Anxiety Disorders\nMental Illness\, Alcohol\, and Drug Use & Criminal Behaviour\nTreating Mental Illness\nLiving with Mental Illness\nCoping as a Family\nUnderstanding the Mental Health System\nAdvocacy & Developing a Support Network\n\n  \nThis course is scheduled to begin February 2020\, details to be confirmed. \nTo register for the course and to receive details once confirmed\, please contact: \nLisa Daily\nKamloops Regional Educator\n250-319-7667\nkamloops@bcss.org \nOR \nRosanne Nelson\nKamloops Regional Educator\n250-571-6955\nkamloopseducator@bcss.org
URL:https://www.bcss.org/event/kamloops-bcss-strengthening-families-together-february-2020/2020-04-04/
LOCATION:Kamloops\, Kamloops\, BC\, Canada
CATEGORIES:Strengthening Families Together
END:VEVENT
END:VCALENDAR