BEGIN:VCALENDAR
VERSION:2.0
PRODID:-//BC Schizophrenia Society - ECPv6.15.9//NONSGML v1.0//EN
CALSCALE:GREGORIAN
METHOD:PUBLISH
X-ORIGINAL-URL:https://www.bcss.org
X-WR-CALDESC:Events for BC Schizophrenia Society
REFRESH-INTERVAL;VALUE=DURATION:PT1H
X-Robots-Tag:noindex
X-PUBLISHED-TTL:PT1H
BEGIN:VTIMEZONE
TZID:America/Vancouver
BEGIN:DAYLIGHT
TZOFFSETFROM:-0800
TZOFFSETTO:-0700
TZNAME:PDT
DTSTART:20230312T100000
END:DAYLIGHT
BEGIN:STANDARD
TZOFFSETFROM:-0700
TZOFFSETTO:-0800
TZNAME:PST
DTSTART:20231105T090000
END:STANDARD
BEGIN:DAYLIGHT
TZOFFSETFROM:-0800
TZOFFSETTO:-0700
TZNAME:PDT
DTSTART:20240310T100000
END:DAYLIGHT
BEGIN:STANDARD
TZOFFSETFROM:-0700
TZOFFSETTO:-0800
TZNAME:PST
DTSTART:20241103T090000
END:STANDARD
BEGIN:DAYLIGHT
TZOFFSETFROM:-0800
TZOFFSETTO:-0700
TZNAME:PDT
DTSTART:20250309T100000
END:DAYLIGHT
BEGIN:STANDARD
TZOFFSETFROM:-0700
TZOFFSETTO:-0800
TZNAME:PST
DTSTART:20251102T090000
END:STANDARD
BEGIN:DAYLIGHT
TZOFFSETFROM:-0800
TZOFFSETTO:-0700
TZNAME:PDT
DTSTART:20260308T100000
END:DAYLIGHT
BEGIN:STANDARD
TZOFFSETFROM:-0700
TZOFFSETTO:-0800
TZNAME:PST
DTSTART:20261101T090000
END:STANDARD
END:VTIMEZONE
BEGIN:VEVENT
DTSTART;TZID=America/Vancouver:20250317T153000
DTEND;TZID=America/Vancouver:20250317T170000
DTSTAMP:20260419T113749
CREATED:20250129T023815Z
LAST-MODIFIED:20250131T021941Z
UID:10012003-1742225400-1742230800@www.bcss.org
SUMMARY:Kids In Control - Agassiz\, BC
DESCRIPTION:Kids in Control is a free education and support program for children ages 8 – 12. This is offered to the youth who have a family member with mental illness (e.g. schizophrenia\, bipolar disorder\, depression\, etc.) and/or substance use disorder. It aims to foster resilience and increase knowledge and understanding of mental illness. It is currently offered as an eight-week online group. Each session is approximately 1.5 hours long and happens once per week. \nKids in Control (In-Person) \n\nWeekly\, every Monday\, from February 3 – March 17\, 2025 (*No session on February 17 due to STAT holiday)\nLocation: 7086 Pioneer Avenue\, Agassiz\, BC\nTime: 3:30 pm – 5:00 pm\nFor more information or to join this\, please contact Kayla Arnold at frasereast@bcssyouth.org
URL:https://www.bcss.org/event/bcss-youth-kids-in-control-agassiz-bc/2025-03-17/
LOCATION:7086 Pioneer Avenue\, Agassiz\, BC V0M 1A0\, 7086 Pioneer Avenue\, Agassiz\, British Columbia\, V0M 1A0\, Canada
CATEGORIES:Kids In Control
ORGANIZER;CN="Kayla Arnold":MAILTO:frasereast@bcss.org
END:VEVENT
BEGIN:VEVENT
DTSTART;TZID=America/Vancouver:20240824T100000
DTEND;TZID=America/Vancouver:20240824T120000
DTSTAMP:20260419T113749
CREATED:20240812T195734Z
LAST-MODIFIED:20240812T231117Z
UID:10011362-1724493600-1724500800@www.bcss.org
SUMMARY:BCSS Youth: Kids In Control Mini-Camp and Parents' Workshop in Agassiz
DESCRIPTION:This free education session is for children aged 8-12 with a loved one facing a mental illness (e.g.\, schizophrenia\, bipolar disorder\, depression) or substance use disorder. Kids In Control fosters resilience and understanding of mental illness. A parent workshop will also be held to provide support and guidance. Snacks and refreshments will be provided. \n\n Kids In Control Mini-Camp and Parents’ Workshop in Agassiz \n\nAugust 24\, 2024 (Saturday)\nTime: 10:00 am – 12:00 pm\nLocation: 7086 Pioneer Avenue\, Agassiz\, BC V0M 1A0 (in the yellow BC Works building)\nFor more information\, please contact Nicole Kruger at (604) 206 7229 or nicole.kruger@gov.bc.ca\n\n*Last day to register is August 23\, 2024 (Friday) \nLearn more at our new BCSS Youth website!
URL:https://www.bcss.org/event/bcss-youth-kids-in-control-mini-camp-and-parents-workshop-in-agassiz/
LOCATION:7086 Pioneer Avenue\, Agassiz\, BC V0M 1A0\, 7086 Pioneer Avenue\, Agassiz\, British Columbia\, V0M 1A0\, Canada
CATEGORIES:Kids In Control
END:VEVENT
END:VCALENDAR