BEGIN:VCALENDAR
VERSION:2.0
PRODID:-//BC Schizophrenia Society - ECPv6.15.9//NONSGML v1.0//EN
CALSCALE:GREGORIAN
METHOD:PUBLISH
X-WR-CALNAME:BC Schizophrenia Society
X-ORIGINAL-URL:https://www.bcss.org
X-WR-CALDESC:Events for BC Schizophrenia Society
REFRESH-INTERVAL;VALUE=DURATION:PT1H
X-Robots-Tag:noindex
X-PUBLISHED-TTL:PT1H
BEGIN:VTIMEZONE
TZID:UTC
BEGIN:STANDARD
TZOFFSETFROM:+0000
TZOFFSETTO:+0000
TZNAME:UTC
DTSTART:20190101T000000
END:STANDARD
END:VTIMEZONE
BEGIN:VEVENT
DTSTART;TZID=UTC:20200328T100000
DTEND;TZID=UTC:20200328T140000
DTSTAMP:20260420T022608
CREATED:20200305T071431Z
LAST-MODIFIED:20200305T074607Z
UID:10008470-1585389600-1585404000@www.bcss.org
SUMMARY:BCSS Sunshine Coast Branch: Special Topic - Electroconvulsive Therapy (ECT) and Transcranial Magnetic Stimulation (TMS)
DESCRIPTION:Speaker:  Dr. Anthony Barale\, psychiatrist\, will be speaking on Electroconvulsive therapy (ECT) and Transcranial magnetic stimulation (TMS) \nWhen:  Saturday\, March 28\, 2020 \nTime:  10:00 AM \nWhere:  The Arrowhead Centre in Sechelt\, 5554 Inlet Ave. \nEveryone Welcomee
URL:https://www.bcss.org/event/bcss-sunshine-coast-branch-special-topic-electroconvulsive-therapy-ect-and-transcranial-magnetic-stimulation-tms/
LOCATION:Arrowhead Centre\, 5554 Inlet Avenue\, Sechelt\, BC\, Canada
CATEGORIES:Other,Special Event
ORGANIZER;CN="Donna Sunshine Coast Branch":MAILTO:bcsssc@gmail.com
END:VEVENT
END:VCALENDAR