BEGIN:VCALENDAR
VERSION:2.0
PRODID:-//BC Schizophrenia Society - ECPv6.15.20//NONSGML v1.0//EN
CALSCALE:GREGORIAN
METHOD:PUBLISH
X-WR-CALNAME:BC Schizophrenia Society
X-ORIGINAL-URL:https://www.bcss.org
X-WR-CALDESC:Events for BC Schizophrenia Society
REFRESH-INTERVAL;VALUE=DURATION:PT1H
X-Robots-Tag:noindex
X-PUBLISHED-TTL:PT1H
BEGIN:VTIMEZONE
TZID:UTC
BEGIN:STANDARD
TZOFFSETFROM:+0000
TZOFFSETTO:+0000
TZNAME:UTC
DTSTART:20200101T000000
END:STANDARD
END:VTIMEZONE
BEGIN:VEVENT
DTSTART;TZID=UTC:20211020T183000
DTEND;TZID=UTC:20211020T200000
DTSTAMP:20260423T040555
CREATED:20210727T233323Z
LAST-MODIFIED:20210727T233323Z
UID:10008623-1634754600-1634760000@www.bcss.org
SUMMARY:Central Vancouver Island BCSS: Virtual Family Support Group - Monthly on Wednesdays
DESCRIPTION:A safe and supportive environment where family and friends of loved ones who are living with a mental illness can share\, ask questions\, and connect with others who may be coping with similar situations. \nThese meetings are occurring virtually via Zoom. \n6:30-8:00pm \nFor additional information and a link to these Zoom meetings contact: \nMelissa Trowbridge\n(250)937-1403\ncentralvi@bcss.org
URL:https://www.bcss.org/event/central-vancouver-island-bcss-virtual-family-support-group-monthly-on-wednesdays/2021-10-20/
LOCATION:BCSS Vancouver Island – Virtual\, Parksville\, BC\, Canada
CATEGORIES:Family Support Group
ORGANIZER;CN="Melissa Trowbridge":MAILTO:centralvi@bcss.org
END:VEVENT
BEGIN:VEVENT
DTSTART;TZID=UTC:20211005T123000
DTEND;TZID=UTC:20211005T140000
DTSTAMP:20260423T040555
CREATED:20210727T232956Z
LAST-MODIFIED:20210727T233516Z
UID:10008620-1633437000-1633442400@www.bcss.org
SUMMARY:Central Vancouver Island BCSS: Virtual Family Support Group - Monthly on Tuesdays
DESCRIPTION:A safe and supportive environment where family and friends of loved ones who are living with a mental illness can share\, ask questions\, and connect with others who may be coping with similar situations.  \nThese meetings are occurring virtually via Zoom. \n12:30-2:00pm \nFor additional information and a link to these Zoom meetings contact:  \nMelissa Trowbridge\n(250)937-1403\ncentralvi@bcss.org
URL:https://www.bcss.org/event/central-vancouver-island-bcss-virtual-family-support-group-monthly-on-tuesdays/2021-10-05/
LOCATION:BCSS Vancouver Island – Virtual\, Parksville\, BC\, Canada
CATEGORIES:Family Support Group
ORGANIZER;CN="Melissa Trowbridge":MAILTO:centralvi@bcss.org
END:VEVENT
END:VCALENDAR