BEGIN:VCALENDAR
VERSION:2.0
PRODID:-//BC Schizophrenia Society - ECPv6.15.9//NONSGML v1.0//EN
CALSCALE:GREGORIAN
METHOD:PUBLISH
X-WR-CALNAME:BC Schizophrenia Society
X-ORIGINAL-URL:https://www.bcss.org
X-WR-CALDESC:Events for BC Schizophrenia Society
REFRESH-INTERVAL;VALUE=DURATION:PT1H
X-Robots-Tag:noindex
X-PUBLISHED-TTL:PT1H
BEGIN:VTIMEZONE
TZID:America/Vancouver
BEGIN:DAYLIGHT
TZOFFSETFROM:-0800
TZOFFSETTO:-0700
TZNAME:PDT
DTSTART:20250309T100000
END:DAYLIGHT
BEGIN:STANDARD
TZOFFSETFROM:-0700
TZOFFSETTO:-0800
TZNAME:PST
DTSTART:20251102T090000
END:STANDARD
BEGIN:DAYLIGHT
TZOFFSETFROM:-0800
TZOFFSETTO:-0700
TZNAME:PDT
DTSTART:20260308T100000
END:DAYLIGHT
BEGIN:STANDARD
TZOFFSETFROM:-0700
TZOFFSETTO:-0800
TZNAME:PST
DTSTART:20261101T090000
END:STANDARD
BEGIN:DAYLIGHT
TZOFFSETFROM:-0800
TZOFFSETTO:-0700
TZNAME:PDT
DTSTART:20270314T100000
END:DAYLIGHT
BEGIN:STANDARD
TZOFFSETFROM:-0700
TZOFFSETTO:-0800
TZNAME:PST
DTSTART:20271107T090000
END:STANDARD
END:VTIMEZONE
BEGIN:VEVENT
DTSTART;TZID=America/Vancouver:20260414T180000
DTEND;TZID=America/Vancouver:20260414T193000
DTSTAMP:20260420T033413
CREATED:20260123T004402Z
LAST-MODIFIED:20260123T004402Z
UID:10013415-1776189600-1776195000@www.bcss.org
SUMMARY:Williams Lake Family Support Group
DESCRIPTION:Do you have a friend or family member living with mental illness? – You are not alone. \nBCSS Family Support Groups offer a safe and supportive environment for family and friends to share\, ask questions\, and connect with others who are also supporting a loved one with mental illness or substance use disorder. Family Support Groups are led by trained facilitators or educators\, and they provide support and resources to family members and caregivers of individuals with a severe and persistent mental illness. \nSessions may include various topics\, including: support and empathy from other family members\, techniques for improved communication\, how to access community resources\, mental health services\, and after-hours support. \nLight refreshments provided \nFamily Support Group – In-Person \n\nThe support group will be held every 2nd Tuesday of the month\nTime: 6:00 – 7:30 PM\nLocation: Cariboo Regional District Library Meeting Room – Suite A-180 North Third Avenue\, Williams Lake\, BC\nFor more information or to participate\, please contact Rhea Clements at cariboo@bcss.org
URL:https://www.bcss.org/event/williams-lake-family-support-group/2026-04-14/
LOCATION:Cariboo Regional District Library Meeting Room\, Suite A-180\, North Third Avenue\, Williams Lake\, BC\, Canada
CATEGORIES:Family Support Group
ORGANIZER;CN="Rhea Clements":MAILTO:cariboo@bcss.org
END:VEVENT
END:VCALENDAR