BEGIN:VCALENDAR
VERSION:2.0
PRODID:-//BC Schizophrenia Society - ECPv6.15.9//NONSGML v1.0//EN
CALSCALE:GREGORIAN
METHOD:PUBLISH
X-WR-CALNAME:BC Schizophrenia Society
X-ORIGINAL-URL:https://www.bcss.org
X-WR-CALDESC:Events for BC Schizophrenia Society
REFRESH-INTERVAL;VALUE=DURATION:PT1H
X-Robots-Tag:noindex
X-PUBLISHED-TTL:PT1H
BEGIN:VTIMEZONE
TZID:UTC
BEGIN:STANDARD
TZOFFSETFROM:+0000
TZOFFSETTO:+0000
TZNAME:UTC
DTSTART:20190101T000000
END:STANDARD
END:VTIMEZONE
BEGIN:VEVENT
DTSTART;TZID=UTC:20201020T190000
DTEND;TZID=UTC:20201020T200000
DTSTAMP:20260419T204300
CREATED:20171216T074332Z
LAST-MODIFIED:20210324T070053Z
UID:10007648-1603220400-1603224000@www.bcss.org
SUMMARY:Maple Ridge BCSS: Family Support Group – 3rd Tuesdays
DESCRIPTION:Have a loved one with a mental illness? Please join us for our ‘share and care’ family support meeting in Maple Ridge. \nTime: 7:00pm\nDate: 3rd Tuesdays of each month\nWhere: Chances\, 22710 Lougheed Hwy\, Maple Ridge\nIn The Boardroom \nFree parking in the parking lot\nAccessible space \nFor more information\, please contact:\nNancy Friesen\nfrasercentral@bcss.org\n604-720-3935
URL:https://www.bcss.org/event/maple-ridge-bcss-family-support-group-3rd-tuesdays/2020-10-20/
LOCATION:Chance (The Boardroom)\, 22710 Lougheed Hwy\, Maple Ridge\, BC\, V2X 2V5\, Canada
CATEGORIES:Family Support Group
ORGANIZER;CN="Nancy Friesen":MAILTO:frasercentral@bcss.org
END:VEVENT
END:VCALENDAR