BEGIN:VCALENDAR
VERSION:2.0
PRODID:-//BC Schizophrenia Society - ECPv6.15.20//NONSGML v1.0//EN
CALSCALE:GREGORIAN
METHOD:PUBLISH
X-ORIGINAL-URL:https://www.bcss.org
X-WR-CALDESC:Events for BC Schizophrenia Society
REFRESH-INTERVAL;VALUE=DURATION:PT1H
X-Robots-Tag:noindex
X-PUBLISHED-TTL:PT1H
BEGIN:VTIMEZONE
TZID:UTC
BEGIN:STANDARD
TZOFFSETFROM:+0000
TZOFFSETTO:+0000
TZNAME:UTC
DTSTART:20180101T000000
END:STANDARD
END:VTIMEZONE
BEGIN:VEVENT
DTSTART;TZID=UTC:20200524T153000
DTEND;TZID=UTC:20200524T170000
DTSTAMP:20260423T013918
CREATED:20200128T033211Z
LAST-MODIFIED:20200128T043706Z
UID:10008214-1590334200-1590339600@www.bcss.org
SUMMARY:Dawson Creek BCSS: Meet and Greet - Alternate Sundays
DESCRIPTION:Meet and Greet families with loved ones every alternate Sunday afternoon from 3:30 p.m. to 5:00 p.m. (no statutory weekends). \nLocation: Dawson Creek & District Hospital\, in the gymnasium \nPlease confirm Meet & Greet via email with Julie at nemanager@bcss.org. \n 
URL:https://www.bcss.org/event/dawson-creek-bcss-meet-and-greet-alternate-sundays/2020-05-24/
LOCATION:Dawson Creek & District Hospital\, 111000 13th Street\, Dawson Creek\, BC\, v1g 3w8\, Canada
CATEGORIES:Meet and Greet
ORGANIZER;CN="Julie Kornelsen":MAILTO:nemanager@bcss.org
END:VEVENT
BEGIN:VEVENT
DTSTART;TZID=UTC:20191209T183000
DTEND;TZID=UTC:20191209T200000
DTSTAMP:20260423T013918
CREATED:20190315T064224Z
LAST-MODIFIED:20200128T033344Z
UID:10004799-1575916200-1575921600@www.bcss.org
SUMMARY:Dawson Creek BCSS: Meet and Greet
DESCRIPTION:Meet and Greet families with loved ones every second Monday evening from 6:30pm-800 pm  at the Dawson Creek & District Hospital\, in the gymnasium
URL:https://www.bcss.org/event/dawson-creek-bcss-meet-greet/2019-12-09/
LOCATION:Dawson Creek & District Hospital\, 111000 13th Street\, Dawson Creek\, BC\, v1g 3w8\, Canada
CATEGORIES:Meet and Greet
ORGANIZER;CN="Steffi Thomas":MAILTO:dawsoncreek@bcss.org
END:VEVENT
END:VCALENDAR