BEGIN:VCALENDAR
VERSION:2.0
PRODID:-//BC Schizophrenia Society - ECPv6.15.9//NONSGML v1.0//EN
CALSCALE:GREGORIAN
METHOD:PUBLISH
X-WR-CALNAME:BC Schizophrenia Society
X-ORIGINAL-URL:https://www.bcss.org
X-WR-CALDESC:Events for BC Schizophrenia Society
REFRESH-INTERVAL;VALUE=DURATION:PT1H
X-Robots-Tag:noindex
X-PUBLISHED-TTL:PT1H
BEGIN:VTIMEZONE
TZID:UTC
BEGIN:STANDARD
TZOFFSETFROM:+0000
TZOFFSETTO:+0000
TZNAME:UTC
DTSTART:20180101T000000
END:STANDARD
END:VTIMEZONE
BEGIN:VEVENT
DTSTART;TZID=UTC:20190625T183000
DTEND;TZID=UTC:20190625T210000
DTSTAMP:20260419T075800
CREATED:20190327T053713Z
LAST-MODIFIED:20190328T052452Z
UID:10004860-1561487400-1561496400@www.bcss.org
SUMMARY:Strengthening Families Together- Kitimat
DESCRIPTION:Strengthening Families Together – Kitimat\nTuesday evenings 6:30-9pm\, April 23 – June 25\n250-635-8206\nterrace@bcss.org
URL:https://www.bcss.org/event/strengthening-families-together-kitmat/2019-06-25/
LOCATION:Kitimat\, Kitimat\, BC\, Canada
END:VEVENT
END:VCALENDAR