BEGIN:VCALENDAR
VERSION:2.0
PRODID:-//BC Schizophrenia Society - ECPv6.15.20//NONSGML v1.0//EN
CALSCALE:GREGORIAN
METHOD:PUBLISH
X-WR-CALNAME:BC Schizophrenia Society
X-ORIGINAL-URL:https://www.bcss.org
X-WR-CALDESC:Events for BC Schizophrenia Society
REFRESH-INTERVAL;VALUE=DURATION:PT1H
X-Robots-Tag:noindex
X-PUBLISHED-TTL:PT1H
BEGIN:VTIMEZONE
TZID:UTC
BEGIN:STANDARD
TZOFFSETFROM:+0000
TZOFFSETTO:+0000
TZNAME:UTC
DTSTART:20180101T000000
END:STANDARD
END:VTIMEZONE
BEGIN:VEVENT
DTSTART;TZID=UTC:20190327T190000
DTEND;TZID=UTC:20190327T203000
DTSTAMP:20260423T214113
CREATED:20240417T044032Z
LAST-MODIFIED:20240417T044032Z
UID:10007066-1553713200-1553718600@www.bcss.org
SUMMARY:Langley BCSS: Family Information Sessions
DESCRIPTION:This family information session offers information and support for family members supporting someone with a mental illness. \nDate: 2nd and 4th Wednesdays of every month\, except for statutory holidays\nTime: 7:00 p.m. – 8:30 p.m.\nLocation: Marion Ward Pavilion\, south of the Main entrance to Langley Memorial Hospital \nFree parking at the Pavilion. \nThis group is co-facilitated by a staff member of Fraser Health and a BCSS family peer facilitator. \nInfo: Nancy Friesen 604-720-3935 frasercentral@bcss.org
URL:https://www.bcss.org/event/langley-bcss-family-information-sessions/2019-03-27/
LOCATION:Langley Memorial Hospital – Marion Ward Pavilion\, 22051 Fraser Hwy\, Langley\, BC\, V3A 4H4
ORGANIZER;CN="Nancy Friesen":MAILTO:frasercentral@bcss.org
GEO:49.0948819;-122.61245
X-APPLE-STRUCTURED-LOCATION;VALUE=URI;X-ADDRESS=Langley Memorial Hospital – Marion Ward Pavilion 22051 Fraser Hwy Langley BC V3A 4H4;X-APPLE-RADIUS=500;X-TITLE=22051 Fraser Hwy:geo:-122.61245,49.0948819
END:VEVENT
END:VCALENDAR