BEGIN:VCALENDAR
VERSION:2.0
PRODID:-//BC Schizophrenia Society - ECPv6.15.20//NONSGML v1.0//EN
CALSCALE:GREGORIAN
METHOD:PUBLISH
X-ORIGINAL-URL:https://www.bcss.org
X-WR-CALDESC:Events for BC Schizophrenia Society
REFRESH-INTERVAL;VALUE=DURATION:PT1H
X-Robots-Tag:noindex
X-PUBLISHED-TTL:PT1H
BEGIN:VTIMEZONE
TZID:UTC
BEGIN:STANDARD
TZOFFSETFROM:+0000
TZOFFSETTO:+0000
TZNAME:UTC
DTSTART:20180101T000000
END:STANDARD
END:VTIMEZONE
BEGIN:VEVENT
DTSTART;TZID=UTC:20191209T180000
DTEND;TZID=UTC:20191209T200000
DTSTAMP:20260423T074608
CREATED:20171216T042414Z
LAST-MODIFIED:20200123T064430Z
UID:10006672-1575914400-1575921600@www.bcss.org
SUMMARY:Kamloops CMHA: Family Support Group – 2nd Mondays
DESCRIPTION:We are offering a family support group once a month in Kamloops\, offered through the Canadian Mental Health Association. \nDay: Second Monday of each month\nTime: 6:00 – 8:00 PM.\nLocation: 857 Seymour Street (The Clubhouse) Kamloops\, BC \nFor more information\, please call Christa Haywood-Farmer at 250-374-0440 or email christa.haywoodfarmer@cmha.bc.ca
URL:https://www.bcss.org/event/kamloops-cmha-family-support-group-2nd-mondays/2019-12-09/
LOCATION:The Clubhouse\, 857 Seymour Street\, Kamloops\, BC
ORGANIZER;CN="Christa Haywood-Farmer":MAILTO:christa.haywoodfarmer@cmha.bc.ca
GEO:50.6746947;-120.3196887
X-APPLE-STRUCTURED-LOCATION;VALUE=URI;X-ADDRESS=The Clubhouse 857 Seymour Street Kamloops BC;X-APPLE-RADIUS=500;X-TITLE=857 Seymour Street:geo:-120.3196887,50.6746947
END:VEVENT
END:VCALENDAR