BEGIN:VCALENDAR
VERSION:2.0
PRODID:-//BC Schizophrenia Society - ECPv6.15.20//NONSGML v1.0//EN
CALSCALE:GREGORIAN
METHOD:PUBLISH
X-ORIGINAL-URL:https://www.bcss.org
X-WR-CALDESC:Events for BC Schizophrenia Society
REFRESH-INTERVAL;VALUE=DURATION:PT1H
X-Robots-Tag:noindex
X-PUBLISHED-TTL:PT1H
BEGIN:VTIMEZONE
TZID:UTC
BEGIN:STANDARD
TZOFFSETFROM:+0000
TZOFFSETTO:+0000
TZNAME:UTC
DTSTART:20190101T000000
END:STANDARD
END:VTIMEZONE
BEGIN:VEVENT
DTSTART;TZID=UTC:20201209T180000
DTEND;TZID=UTC:20201209T193000
DTSTAMP:20260423T060652
CREATED:20171216T060951Z
LAST-MODIFIED:20210313T094634Z
UID:10007032-1607536800-1607542200@www.bcss.org
SUMMARY:Williams Lake BCSS: Family Support Group – 2nd Wednesday
DESCRIPTION:This monthly Williams Lake and area BCSS support group meeting is for parents\, partners and siblings of a person who is living with any mental illness\, schizophrenia\, bipolar\, depression\, obsessive-compulsive disorder\, and anxiety disorders. \nYou are welcome to come and share your successes\, concerns\, experiences. \n6:00-7:30pm\n6-160 Oliver Street\, Williams Lake\nFor more info: 250-302-1210 cariboo@bcss.org
URL:https://www.bcss.org/event/williams-lake-bcss-family-support-group-2nd-wednesday/2020-12-09/
LOCATION:Thompson Rivers University\, 1250 Western Avenue\, Room #1305\, Williams Lake\, British Columbia\, V2G 1H7\, Canada
CATEGORIES:Family Support Group
ORGANIZER;CN="Vanessa Nelson":MAILTO:cariboo@bcss.org
END:VEVENT
END:VCALENDAR