BEGIN:VCALENDAR
VERSION:2.0
PRODID:-//BC Schizophrenia Society - ECPv6.15.20//NONSGML v1.0//EN
CALSCALE:GREGORIAN
METHOD:PUBLISH
X-WR-CALNAME:BC Schizophrenia Society
X-ORIGINAL-URL:https://www.bcss.org
X-WR-CALDESC:Events for BC Schizophrenia Society
REFRESH-INTERVAL;VALUE=DURATION:PT1H
X-Robots-Tag:noindex
X-PUBLISHED-TTL:PT1H
BEGIN:VTIMEZONE
TZID:UTC
BEGIN:STANDARD
TZOFFSETFROM:+0000
TZOFFSETTO:+0000
TZNAME:UTC
DTSTART:20170101T000000
END:STANDARD
END:VTIMEZONE
BEGIN:VEVENT
DTSTART;TZID=UTC:20190321T181500
DTEND;TZID=UTC:20190321T193000
DTSTAMP:20260423T145113
CREATED:20240417T044026Z
LAST-MODIFIED:20240417T044026Z
UID:10006283-1553192100-1553196600@www.bcss.org
SUMMARY:White Rock BCSS: Peace Arch Hospital Information Session – 1st & 3rd Thursdays
DESCRIPTION:This family information session offers information and support for family members supporting someone with a mental illness.\nDate: 1st & 3rd Thursdays of every month\, except for statutory holidays\nTime: 6:15 – 7:30 p.m.\nLocation: White Rock Mental Health Centre- Russell Annex (in the South East parking lot)\nThis group is co-facilitated by a staff member of Fraser Health and a BCSS family peer facilitator.\nContact: Hardeep 604-574-1976 frasersouth@bcss.org
URL:https://www.bcss.org/event/white-rock-bcss-peace-arch-hospital-information-session-1st-3rd-thursdays/2019-03-21/
LOCATION:White Rock Mental Health Centre- Russell Annex\, 15521 Russell Ave\, White Rock\, BC\, V4B 2R4
ORGANIZER;CN="Hardeep (Fraser Region)":MAILTO:frasersouth@bcss.org
GEO:49.0292521;-122.7917369
X-APPLE-STRUCTURED-LOCATION;VALUE=URI;X-ADDRESS=White Rock Mental Health Centre- Russell Annex 15521 Russell Ave White Rock BC V4B 2R4;X-APPLE-RADIUS=500;X-TITLE=15521 Russell Ave:geo:-122.7917369,49.0292521
END:VEVENT
BEGIN:VEVENT
DTSTART;TZID=UTC:20181220T181500
DTEND;TZID=UTC:20181220T193000
DTSTAMP:20260423T145113
CREATED:20171216T031513Z
LAST-MODIFIED:20190911T044052Z
UID:10006284-1545329700-1545334200@www.bcss.org
SUMMARY:White Rock BCSS: Peace Arch Hospital Information Session – 1st & 3rd Thursdays
DESCRIPTION:This family information session offers information and support for family members supporting someone with a mental illness.\nDate: 1st & 3rd Thursdays of every month\, except for statutory holidays\nTime: 6:15 – 7:30 p.m.\nLocation: White Rock Mental Health Centre- Russell Annex (in the South East parking lot)\nThis group is co-facilitated by a staff member of Fraser Health and a BCSS family peer facilitator.\nContact: Hardeep 604-574-1976 frasersouth@bcss.org
URL:https://www.bcss.org/event/white-rock-bcss-peace-arch-hospital-information-session-1st-3rd-thursdays-2018-12-20/
LOCATION:White Rock Mental Health Centre- Russell Annex\, 15521 Russell Ave\, White Rock\, BC\, V4B 2R4
ORGANIZER;CN="Hardeep (Fraser Region)":MAILTO:frasersouth@bcss.org
GEO:49.0292521;-122.7917369
X-APPLE-STRUCTURED-LOCATION;VALUE=URI;X-ADDRESS=White Rock Mental Health Centre- Russell Annex 15521 Russell Ave White Rock BC V4B 2R4;X-APPLE-RADIUS=500;X-TITLE=15521 Russell Ave:geo:-122.7917369,49.0292521
END:VEVENT
END:VCALENDAR